BEGIN:VCALENDAR
VERSION:2.0
PRODID:-//League of Women Voters of Wyoming - ECPv6.15.13//NONSGML v1.0//EN
CALSCALE:GREGORIAN
METHOD:PUBLISH
X-ORIGINAL-URL:https://wyominglwv.org
X-WR-CALDESC:Events for League of Women Voters of Wyoming
REFRESH-INTERVAL;VALUE=DURATION:PT1H
X-Robots-Tag:noindex
X-PUBLISHED-TTL:PT1H
BEGIN:VTIMEZONE
TZID:America/Denver
BEGIN:DAYLIGHT
TZOFFSETFROM:-0700
TZOFFSETTO:-0600
TZNAME:MDT
DTSTART:20240310T090000
END:DAYLIGHT
BEGIN:STANDARD
TZOFFSETFROM:-0600
TZOFFSETTO:-0700
TZNAME:MST
DTSTART:20241103T080000
END:STANDARD
BEGIN:DAYLIGHT
TZOFFSETFROM:-0700
TZOFFSETTO:-0600
TZNAME:MDT
DTSTART:20250309T090000
END:DAYLIGHT
BEGIN:STANDARD
TZOFFSETFROM:-0600
TZOFFSETTO:-0700
TZNAME:MST
DTSTART:20251102T080000
END:STANDARD
BEGIN:DAYLIGHT
TZOFFSETFROM:-0700
TZOFFSETTO:-0600
TZNAME:MDT
DTSTART:20260308T090000
END:DAYLIGHT
BEGIN:STANDARD
TZOFFSETFROM:-0600
TZOFFSETTO:-0700
TZNAME:MST
DTSTART:20261101T080000
END:STANDARD
END:VTIMEZONE
BEGIN:VEVENT
DTSTART;TZID=America/Denver:20250102T000000
DTEND;TZID=America/Denver:20250102T235959
DTSTAMP:20260420T232652
CREATED:20241115T034555Z
LAST-MODIFIED:20241116T023701Z
UID:10679-1735776000-1735862399@wyominglwv.org
SUMMARY:2024 Annual League Survey is dispatched to leadership
DESCRIPTION:As always\, local leagues are encouraged to complete their surveys quickly.  A drawing will be held\, allowing leagues to win one of ten $200 grants or one of three Convention ’26 registrations.  States for which all local leagues submit may win one of two Council 2025 registrations. \nA word to the wise: the surveys have complex expectations and tools to use.  Prepare ASAP to get a head start!  Read more>>>
URL:https://wyominglwv.org/event/2024-annual-league-survey-is-dispatched-to-leadership/
END:VEVENT
END:VCALENDAR