BEGIN:VCALENDAR
VERSION:2.0
PRODID:-//League of Women Voters of Wyoming - ECPv6.15.13//NONSGML v1.0//EN
CALSCALE:GREGORIAN
METHOD:PUBLISH
X-WR-CALNAME:League of Women Voters of Wyoming
X-ORIGINAL-URL:https://wyominglwv.org
X-WR-CALDESC:Events for League of Women Voters of Wyoming
REFRESH-INTERVAL;VALUE=DURATION:PT1H
X-Robots-Tag:noindex
X-PUBLISHED-TTL:PT1H
BEGIN:VTIMEZONE
TZID:America/Denver
BEGIN:DAYLIGHT
TZOFFSETFROM:-0700
TZOFFSETTO:-0600
TZNAME:MDT
DTSTART:20240310T090000
END:DAYLIGHT
BEGIN:STANDARD
TZOFFSETFROM:-0600
TZOFFSETTO:-0700
TZNAME:MST
DTSTART:20241103T080000
END:STANDARD
BEGIN:DAYLIGHT
TZOFFSETFROM:-0700
TZOFFSETTO:-0600
TZNAME:MDT
DTSTART:20250309T090000
END:DAYLIGHT
BEGIN:STANDARD
TZOFFSETFROM:-0600
TZOFFSETTO:-0700
TZNAME:MST
DTSTART:20251102T080000
END:STANDARD
BEGIN:DAYLIGHT
TZOFFSETFROM:-0700
TZOFFSETTO:-0600
TZNAME:MDT
DTSTART:20260308T090000
END:DAYLIGHT
BEGIN:STANDARD
TZOFFSETFROM:-0600
TZOFFSETTO:-0700
TZNAME:MST
DTSTART:20261101T080000
END:STANDARD
END:VTIMEZONE
BEGIN:VEVENT
DTSTART;TZID=America/Denver:20250114T160000
DTEND;TZID=America/Denver:20250114T170000
DTSTAMP:20260421T011803
CREATED:20250114T215735Z
LAST-MODIFIED:20250114T220345Z
UID:11106-1736870400-1736874000@wyominglwv.org
SUMMARY:Cheyenne Roundup
DESCRIPTION:This is the first in weekly updates with WyoFile’s Maggie Mullen and Wyoming Public Radio’s Jordan Uplinger.  \nThey review how this fast-paced lawmaking process works. This is a 12-minute audio tape. Listen here>>>
URL:https://wyominglwv.org/event/cheyenne-roundup/
END:VEVENT
END:VCALENDAR