BEGIN:VCALENDAR
VERSION:2.0
PRODID:-//League of Women Voters of Wyoming - ECPv6.15.13//NONSGML v1.0//EN
CALSCALE:GREGORIAN
METHOD:PUBLISH
X-ORIGINAL-URL:https://wyominglwv.org
X-WR-CALDESC:Events for League of Women Voters of Wyoming
REFRESH-INTERVAL;VALUE=DURATION:PT1H
X-Robots-Tag:noindex
X-PUBLISHED-TTL:PT1H
BEGIN:VTIMEZONE
TZID:America/Denver
BEGIN:DAYLIGHT
TZOFFSETFROM:-0700
TZOFFSETTO:-0600
TZNAME:MDT
DTSTART:20240310T090000
END:DAYLIGHT
BEGIN:STANDARD
TZOFFSETFROM:-0600
TZOFFSETTO:-0700
TZNAME:MST
DTSTART:20241103T080000
END:STANDARD
BEGIN:DAYLIGHT
TZOFFSETFROM:-0700
TZOFFSETTO:-0600
TZNAME:MDT
DTSTART:20250309T090000
END:DAYLIGHT
BEGIN:STANDARD
TZOFFSETFROM:-0600
TZOFFSETTO:-0700
TZNAME:MST
DTSTART:20251102T080000
END:STANDARD
BEGIN:DAYLIGHT
TZOFFSETFROM:-0700
TZOFFSETTO:-0600
TZNAME:MDT
DTSTART:20260308T090000
END:DAYLIGHT
BEGIN:STANDARD
TZOFFSETFROM:-0600
TZOFFSETTO:-0700
TZNAME:MST
DTSTART:20261101T080000
END:STANDARD
END:VTIMEZONE
BEGIN:VEVENT
DTSTART;TZID=America/Denver:20250119T000000
DTEND;TZID=America/Denver:20250120T235959
DTSTAMP:20260420T214207
CREATED:20241123T054222Z
LAST-MODIFIED:20241123T054224Z
UID:10800-1737244800-1737417599@wyominglwv.org
SUMMARY:SHAPE Wyoming:  Annual 2-Day ESPC Lobbyist Training
DESCRIPTION:
URL:https://wyominglwv.org/event/shape-wyoming-annual-2-day-espc-lobbyist-training/
END:VEVENT
BEGIN:VEVENT
DTSTART;TZID=America/Denver:20250119T000000
DTEND;TZID=America/Denver:20250120T235959
DTSTAMP:20260420T214207
CREATED:20241207T055538Z
LAST-MODIFIED:20241207T062112Z
UID:10917-1737244800-1737417599@wyominglwv.org
SUMMARY:ESPC's 2-day Citizen Lobbyist training in Cheyenne
DESCRIPTION:This citizen lobbyist training is designed to equip you with the skills and confidence.\nYou’ll learn from seasoned advocates about lobbying and testifying.\n \nMonday\, January 20th\, is Lobby Day\, complete with a free breakfast.  Put your training to use.  The will be between $15 to $35.   Please register>>>.     The ESPC facebook has more informaction>>>\n 
URL:https://wyominglwv.org/event/espcs-2-day-lobbyist-training-in-cheyenne/
END:VEVENT
END:VCALENDAR