BEGIN:VCALENDAR
VERSION:2.0
PRODID:-//League of Women Voters of Wyoming - ECPv6.15.13//NONSGML v1.0//EN
CALSCALE:GREGORIAN
METHOD:PUBLISH
X-ORIGINAL-URL:https://wyominglwv.org
X-WR-CALDESC:Events for League of Women Voters of Wyoming
REFRESH-INTERVAL;VALUE=DURATION:PT1H
X-Robots-Tag:noindex
X-PUBLISHED-TTL:PT1H
BEGIN:VTIMEZONE
TZID:America/Denver
BEGIN:DAYLIGHT
TZOFFSETFROM:-0700
TZOFFSETTO:-0600
TZNAME:MDT
DTSTART:20240310T090000
END:DAYLIGHT
BEGIN:STANDARD
TZOFFSETFROM:-0600
TZOFFSETTO:-0700
TZNAME:MST
DTSTART:20241103T080000
END:STANDARD
BEGIN:DAYLIGHT
TZOFFSETFROM:-0700
TZOFFSETTO:-0600
TZNAME:MDT
DTSTART:20250309T090000
END:DAYLIGHT
BEGIN:STANDARD
TZOFFSETFROM:-0600
TZOFFSETTO:-0700
TZNAME:MST
DTSTART:20251102T080000
END:STANDARD
BEGIN:DAYLIGHT
TZOFFSETFROM:-0700
TZOFFSETTO:-0600
TZNAME:MDT
DTSTART:20260308T090000
END:DAYLIGHT
BEGIN:STANDARD
TZOFFSETFROM:-0600
TZOFFSETTO:-0700
TZNAME:MST
DTSTART:20261101T080000
END:STANDARD
END:VTIMEZONE
BEGIN:VEVENT
DTSTART;TZID=America/Denver:20250123T000000
DTEND;TZID=America/Denver:20250123T235959
DTSTAMP:20260421T012227
CREATED:20240527T005115Z
LAST-MODIFIED:20241123T065207Z
UID:8936-1737590400-1737676799@wyominglwv.org
SUMMARY:Ratification 24th Amendment\, All Citizens May Vote
DESCRIPTION:The 24th Amendment was ratified in 1964. “There can be no one too poor to vote\,” declared President Lyndon Johnson.  At the time of the passing of this Amendment\, the most egregious use of poll taxes stop voting was in Virginia\, Alabama\, Mississippi\, Arkansas\, and Texas. The Amendment text follows.  Read more>>> \n\n\n\n\nSection 1 \nThe right of citizens of the United States to vote in any primary or other election for President or Vice President\, for electors for President or Vice President\, or for Senator or Representative in Congress\, shall not be denied or abridged by the United States or any State by reason of failure to pay poll tax or other tax. \n\n\n\n\n\n\n\n\nSection 2 \nThe Congress shall have power to enforce this article by appropriate legislation.
URL:https://wyominglwv.org/event/ratification-24th-amendment/
END:VEVENT
END:VCALENDAR