BEGIN:VCALENDAR
VERSION:2.0
PRODID:-//League of Women Voters of Wyoming - ECPv6.15.13//NONSGML v1.0//EN
CALSCALE:GREGORIAN
METHOD:PUBLISH
X-WR-CALNAME:League of Women Voters of Wyoming
X-ORIGINAL-URL:https://wyominglwv.org
X-WR-CALDESC:Events for League of Women Voters of Wyoming
REFRESH-INTERVAL;VALUE=DURATION:PT1H
X-Robots-Tag:noindex
X-PUBLISHED-TTL:PT1H
BEGIN:VTIMEZONE
TZID:America/Denver
BEGIN:DAYLIGHT
TZOFFSETFROM:-0700
TZOFFSETTO:-0600
TZNAME:MDT
DTSTART:20240310T090000
END:DAYLIGHT
BEGIN:STANDARD
TZOFFSETFROM:-0600
TZOFFSETTO:-0700
TZNAME:MST
DTSTART:20241103T080000
END:STANDARD
BEGIN:DAYLIGHT
TZOFFSETFROM:-0700
TZOFFSETTO:-0600
TZNAME:MDT
DTSTART:20250309T090000
END:DAYLIGHT
BEGIN:STANDARD
TZOFFSETFROM:-0600
TZOFFSETTO:-0700
TZNAME:MST
DTSTART:20251102T080000
END:STANDARD
BEGIN:DAYLIGHT
TZOFFSETFROM:-0700
TZOFFSETTO:-0600
TZNAME:MDT
DTSTART:20260308T090000
END:DAYLIGHT
BEGIN:STANDARD
TZOFFSETFROM:-0600
TZOFFSETTO:-0700
TZNAME:MST
DTSTART:20261101T080000
END:STANDARD
END:VTIMEZONE
BEGIN:VEVENT
DTSTART;TZID=America/Denver:20250130T180000
DTEND;TZID=America/Denver:20250130T190000
DTSTAMP:20260420T181030
CREATED:20250127T035620Z
LAST-MODIFIED:20250127T041231Z
UID:11249-1738260000-1738263600@wyominglwv.org
SUMMARY:Better WY zoom training: engaging the media
DESCRIPTION:To quote Nate Martin: \nWe will go over what it’s like to talk to reporters and editors\, what you can say and suggest to get them to cover the information in our reports\, and tips on writing Letters to the Editor and op-eds to share your own opinion. \nThey ask the your register to attend.  Sign up>>> \nZoom Link: https://us02web.zoom.us/j/85050057350
URL:https://wyominglwv.org/event/better-wy-zoom-training-engaging-the-media/
END:VEVENT
END:VCALENDAR