BEGIN:VCALENDAR
VERSION:2.0
PRODID:-//League of Women Voters of Wyoming - ECPv6.15.13//NONSGML v1.0//EN
CALSCALE:GREGORIAN
METHOD:PUBLISH
X-WR-CALNAME:League of Women Voters of Wyoming
X-ORIGINAL-URL:https://wyominglwv.org
X-WR-CALDESC:Events for League of Women Voters of Wyoming
REFRESH-INTERVAL;VALUE=DURATION:PT1H
X-Robots-Tag:noindex
X-PUBLISHED-TTL:PT1H
BEGIN:VTIMEZONE
TZID:America/Denver
BEGIN:DAYLIGHT
TZOFFSETFROM:-0700
TZOFFSETTO:-0600
TZNAME:MDT
DTSTART:20240310T090000
END:DAYLIGHT
BEGIN:STANDARD
TZOFFSETFROM:-0600
TZOFFSETTO:-0700
TZNAME:MST
DTSTART:20241103T080000
END:STANDARD
BEGIN:DAYLIGHT
TZOFFSETFROM:-0700
TZOFFSETTO:-0600
TZNAME:MDT
DTSTART:20250309T090000
END:DAYLIGHT
BEGIN:STANDARD
TZOFFSETFROM:-0600
TZOFFSETTO:-0700
TZNAME:MST
DTSTART:20251102T080000
END:STANDARD
BEGIN:DAYLIGHT
TZOFFSETFROM:-0700
TZOFFSETTO:-0600
TZNAME:MDT
DTSTART:20260308T090000
END:DAYLIGHT
BEGIN:STANDARD
TZOFFSETFROM:-0600
TZOFFSETTO:-0700
TZNAME:MST
DTSTART:20261101T080000
END:STANDARD
END:VTIMEZONE
BEGIN:VEVENT
DTSTART;TZID=America/Denver:20250323T123000
DTEND;TZID=America/Denver:20250323T143000
DTSTAMP:20260420T114229
CREATED:20250319T005542Z
LAST-MODIFIED:20250319T010243Z
UID:11571-1742733000-1742740200@wyominglwv.org
SUMMARY:"Fight Like Hell" rally of Casper USPS employees
DESCRIPTION:Rene Eberhardt\, President of the WY Postal Workers Association\, explained feelings in a sentence: \n“Regardless of politics—I don’t care if you’re Republican or a Democrat—nobody has voted to eliminate and destroy the public’s Postal Service\,” she said. \n Casper mayor’s letter opposes USPS possibly closing local processing center\nCheck with your local USPS if you can’t join the protestors in Washington Park.  Read more>>>
URL:https://wyominglwv.org/event/fight-like-hell-rally-of-casper-usps-employees/
END:VEVENT
END:VCALENDAR