BEGIN:VCALENDAR
VERSION:2.0
PRODID:-//League of Women Voters of Wyoming - ECPv6.15.13//NONSGML v1.0//EN
CALSCALE:GREGORIAN
METHOD:PUBLISH
X-ORIGINAL-URL:https://wyominglwv.org
X-WR-CALDESC:Events for League of Women Voters of Wyoming
REFRESH-INTERVAL;VALUE=DURATION:PT1H
X-Robots-Tag:noindex
X-PUBLISHED-TTL:PT1H
BEGIN:VTIMEZONE
TZID:America/Denver
BEGIN:DAYLIGHT
TZOFFSETFROM:-0700
TZOFFSETTO:-0600
TZNAME:MDT
DTSTART:20240310T090000
END:DAYLIGHT
BEGIN:STANDARD
TZOFFSETFROM:-0600
TZOFFSETTO:-0700
TZNAME:MST
DTSTART:20241103T080000
END:STANDARD
BEGIN:DAYLIGHT
TZOFFSETFROM:-0700
TZOFFSETTO:-0600
TZNAME:MDT
DTSTART:20250309T090000
END:DAYLIGHT
BEGIN:STANDARD
TZOFFSETFROM:-0600
TZOFFSETTO:-0700
TZNAME:MST
DTSTART:20251102T080000
END:STANDARD
BEGIN:DAYLIGHT
TZOFFSETFROM:-0700
TZOFFSETTO:-0600
TZNAME:MDT
DTSTART:20260308T090000
END:DAYLIGHT
BEGIN:STANDARD
TZOFFSETFROM:-0600
TZOFFSETTO:-0700
TZNAME:MST
DTSTART:20261101T080000
END:STANDARD
END:VTIMEZONE
BEGIN:VEVENT
DTSTART;TZID=America/Denver:20250410T150000
DTEND;TZID=America/Denver:20250410T160000
DTSTAMP:20260420T054357
CREATED:20250326T175822Z
LAST-MODIFIED:20250326T180718Z
UID:11631-1744297200-1744300800@wyominglwv.org
SUMMARY:Webinar: Corporate & Organizational Partnerships
DESCRIPTION:This is the first of three webinars hosted by LWVUS on partnerships to expand league influence. The first webinar is \n\nwhat we’re doing with partners at the national level\nour strategy behind it\nhow state and local leaders can plug in\n\nThe May 8 session will focus on best practices and templates and offer a tools workshop.  \nFinally\, during the July 17 webinar\, we’ll hear from national partners on what they do and how to leverage partnership at the local level to build successful programming. Read more and pre-register for the webinars>>>
URL:https://wyominglwv.org/event/webinar-corporate-organizational-partnerships/
END:VEVENT
END:VCALENDAR