BEGIN:VCALENDAR
VERSION:2.0
PRODID:-//League of Women Voters of Wyoming - ECPv6.15.13//NONSGML v1.0//EN
CALSCALE:GREGORIAN
METHOD:PUBLISH
X-ORIGINAL-URL:https://wyominglwv.org
X-WR-CALDESC:Events for League of Women Voters of Wyoming
REFRESH-INTERVAL;VALUE=DURATION:PT1H
X-Robots-Tag:noindex
X-PUBLISHED-TTL:PT1H
BEGIN:VTIMEZONE
TZID:America/Denver
BEGIN:DAYLIGHT
TZOFFSETFROM:-0700
TZOFFSETTO:-0600
TZNAME:MDT
DTSTART:20240310T090000
END:DAYLIGHT
BEGIN:STANDARD
TZOFFSETFROM:-0600
TZOFFSETTO:-0700
TZNAME:MST
DTSTART:20241103T080000
END:STANDARD
BEGIN:DAYLIGHT
TZOFFSETFROM:-0700
TZOFFSETTO:-0600
TZNAME:MDT
DTSTART:20250309T090000
END:DAYLIGHT
BEGIN:STANDARD
TZOFFSETFROM:-0600
TZOFFSETTO:-0700
TZNAME:MST
DTSTART:20251102T080000
END:STANDARD
BEGIN:DAYLIGHT
TZOFFSETFROM:-0700
TZOFFSETTO:-0600
TZNAME:MDT
DTSTART:20260308T090000
END:DAYLIGHT
BEGIN:STANDARD
TZOFFSETFROM:-0600
TZOFFSETTO:-0700
TZNAME:MST
DTSTART:20261101T080000
END:STANDARD
END:VTIMEZONE
BEGIN:VEVENT
DTSTART;TZID=America/Denver:20250508T083000
DTEND;TZID=America/Denver:20250508T170000
DTSTAMP:20260420T162354
CREATED:20250508T174842Z
LAST-MODIFIED:20250508T191013Z
UID:11986-1746693000-1746723600@wyominglwv.org
SUMMARY:1st Interim meeting of the Corporations Committee
DESCRIPTION:This two-day meeting takes place in Lander. They meet in the board room of the King Adm. Bldg. Today’s morning session consists of a reenactment of the election process and an overview of the recent legislative session by Secretary Gray. The afternoon begins with talk of electricity. The last topic of the day is emergency services. \n  \nRead more>>>
URL:https://wyominglwv.org/event/1st-interim-meeting-of-the-corporations-committee/
END:VEVENT
BEGIN:VEVENT
DTSTART;TZID=America/Denver:20250508T150000
DTEND;TZID=America/Denver:20250508T160000
DTSTAMP:20260420T162354
CREATED:20250507T034444Z
LAST-MODIFIED:20250507T040346Z
UID:11971-1746716400-1746720000@wyominglwv.org
SUMMARY:LWVUS Webinar: How to build partnerships
DESCRIPTION:
URL:https://wyominglwv.org/event/lwvus-webinar-how-to-build-partnerships/
END:VEVENT
END:VCALENDAR