BEGIN:VCALENDAR
VERSION:2.0
PRODID:-//League of Women Voters of Wyoming - ECPv6.15.13//NONSGML v1.0//EN
CALSCALE:GREGORIAN
METHOD:PUBLISH
X-ORIGINAL-URL:https://wyominglwv.org
X-WR-CALDESC:Events for League of Women Voters of Wyoming
REFRESH-INTERVAL;VALUE=DURATION:PT1H
X-Robots-Tag:noindex
X-PUBLISHED-TTL:PT1H
BEGIN:VTIMEZONE
TZID:America/Denver
BEGIN:DAYLIGHT
TZOFFSETFROM:-0700
TZOFFSETTO:-0600
TZNAME:MDT
DTSTART:20240310T090000
END:DAYLIGHT
BEGIN:STANDARD
TZOFFSETFROM:-0600
TZOFFSETTO:-0700
TZNAME:MST
DTSTART:20241103T080000
END:STANDARD
BEGIN:DAYLIGHT
TZOFFSETFROM:-0700
TZOFFSETTO:-0600
TZNAME:MDT
DTSTART:20250309T090000
END:DAYLIGHT
BEGIN:STANDARD
TZOFFSETFROM:-0600
TZOFFSETTO:-0700
TZNAME:MST
DTSTART:20251102T080000
END:STANDARD
BEGIN:DAYLIGHT
TZOFFSETFROM:-0700
TZOFFSETTO:-0600
TZNAME:MDT
DTSTART:20260308T090000
END:DAYLIGHT
BEGIN:STANDARD
TZOFFSETFROM:-0600
TZOFFSETTO:-0700
TZNAME:MST
DTSTART:20261101T080000
END:STANDARD
END:VTIMEZONE
BEGIN:VEVENT
DTSTART;TZID=America/Denver:20250612T103000
DTEND;TZID=America/Denver:20250612T120000
DTSTAMP:20260420T084608
CREATED:20250531T002759Z
LAST-MODIFIED:20250531T003153Z
UID:12259-1749724200-1749729600@wyominglwv.org
SUMMARY:Brennan Center webinar: Birthright citizenship
DESCRIPTION:Join the Brennan Center virtually on Thursday\, June 12\, for a discussion with leading experts on the historical and legal dimensions of the attack on birthright citizenship. \nProduced in partnership with the Organization of American Historians \nSpeakers: \n \n\nKate Masur\, Professor of History\, Northwestern U\nMartha Jones\, Professor of History\, Johns Hopkins U\nErika Lee\, Bae Family Professor of History\, Radcliffe Alumnae Professor\, Harvard University\nThomas Wolf\, Director of Democracy Initiatives\, Founder of Historians Council on the Constitution\, Brennan Center\nModerator: Kareem Crayton\, VP for Washington\, DC\, Brennan Center\n\nYou must pre-register.>>>
URL:https://wyominglwv.org/event/brennan-center-webinar-birthright-citizenship/
END:VEVENT
END:VCALENDAR