BEGIN:VCALENDAR
VERSION:2.0
PRODID:-//League of Women Voters of Wyoming - ECPv6.15.13//NONSGML v1.0//EN
CALSCALE:GREGORIAN
METHOD:PUBLISH
X-ORIGINAL-URL:https://wyominglwv.org
X-WR-CALDESC:Events for League of Women Voters of Wyoming
REFRESH-INTERVAL;VALUE=DURATION:PT1H
X-Robots-Tag:noindex
X-PUBLISHED-TTL:PT1H
BEGIN:VTIMEZONE
TZID:America/Denver
BEGIN:DAYLIGHT
TZOFFSETFROM:-0700
TZOFFSETTO:-0600
TZNAME:MDT
DTSTART:20240310T090000
END:DAYLIGHT
BEGIN:STANDARD
TZOFFSETFROM:-0600
TZOFFSETTO:-0700
TZNAME:MST
DTSTART:20241103T080000
END:STANDARD
BEGIN:DAYLIGHT
TZOFFSETFROM:-0700
TZOFFSETTO:-0600
TZNAME:MDT
DTSTART:20250309T090000
END:DAYLIGHT
BEGIN:STANDARD
TZOFFSETFROM:-0600
TZOFFSETTO:-0700
TZNAME:MST
DTSTART:20251102T080000
END:STANDARD
BEGIN:DAYLIGHT
TZOFFSETFROM:-0700
TZOFFSETTO:-0600
TZNAME:MDT
DTSTART:20260308T090000
END:DAYLIGHT
BEGIN:STANDARD
TZOFFSETFROM:-0600
TZOFFSETTO:-0700
TZNAME:MST
DTSTART:20261101T080000
END:STANDARD
END:VTIMEZONE
BEGIN:VEVENT
DTSTART;TZID=America/Denver:20250618T083000
DTEND;TZID=America/Denver:20250618T170000
DTSTAMP:20260422T084042
CREATED:20250513T001141Z
LAST-MODIFIED:20250513T001141Z
UID:12072-1750235400-1750266000@wyominglwv.org
SUMMARY:Day 2 meeting of Interim Recalibration Committee
DESCRIPTION:
URL:https://wyominglwv.org/event/day-2-meeting-of-interim-recalibration-committee/
END:VEVENT
BEGIN:VEVENT
DTSTART;TZID=America/Denver:20250618T163000
DTEND;TZID=America/Denver:20250618T180000
DTSTAMP:20260422T084042
CREATED:20250515T180200Z
LAST-MODIFIED:20250515T180200Z
UID:12119-1750264200-1750269600@wyominglwv.org
SUMMARY:Book Discussion:  The Bill of Obligations
DESCRIPTION:
URL:https://wyominglwv.org/event/book-discussion-the-bill-of-obligations/
END:VEVENT
END:VCALENDAR