BEGIN:VCALENDAR
VERSION:2.0
PRODID:-//League of Women Voters of Wyoming - ECPv6.15.13//NONSGML v1.0//EN
CALSCALE:GREGORIAN
METHOD:PUBLISH
X-WR-CALNAME:League of Women Voters of Wyoming
X-ORIGINAL-URL:https://wyominglwv.org
X-WR-CALDESC:Events for League of Women Voters of Wyoming
REFRESH-INTERVAL;VALUE=DURATION:PT1H
X-Robots-Tag:noindex
X-PUBLISHED-TTL:PT1H
BEGIN:VTIMEZONE
TZID:America/Denver
BEGIN:DAYLIGHT
TZOFFSETFROM:-0700
TZOFFSETTO:-0600
TZNAME:MDT
DTSTART:20240310T090000
END:DAYLIGHT
BEGIN:STANDARD
TZOFFSETFROM:-0600
TZOFFSETTO:-0700
TZNAME:MST
DTSTART:20241103T080000
END:STANDARD
BEGIN:DAYLIGHT
TZOFFSETFROM:-0700
TZOFFSETTO:-0600
TZNAME:MDT
DTSTART:20250309T090000
END:DAYLIGHT
BEGIN:STANDARD
TZOFFSETFROM:-0600
TZOFFSETTO:-0700
TZNAME:MST
DTSTART:20251102T080000
END:STANDARD
BEGIN:DAYLIGHT
TZOFFSETFROM:-0700
TZOFFSETTO:-0600
TZNAME:MDT
DTSTART:20260308T090000
END:DAYLIGHT
BEGIN:STANDARD
TZOFFSETFROM:-0600
TZOFFSETTO:-0700
TZNAME:MST
DTSTART:20261101T080000
END:STANDARD
END:VTIMEZONE
BEGIN:VEVENT
DTSTART;TZID=America/Denver:20251206T000000
DTEND;TZID=America/Denver:20251206T235959
DTSTAMP:20260419T125422
CREATED:20240814T063757Z
LAST-MODIFIED:20240814T063852Z
UID:9778-1764979200-1765065599@wyominglwv.org
SUMMARY:Ratification of 13th Amendment\, Abolish Slavery
DESCRIPTION:Ratified on December 6\, 1865\, this Amendment was the first of three called the “Civil War Amendments.”  A tug-of-war between Congress and the Supreme Court ensued where SCOTUS claimed that Congress exceeded its powers with the enforcement section and that stating that private discrimination was not slavery.  The text of the Amendment is below.  \nSection 1 \nNeither slavery nor involuntary servitude\, except as a punishment for crime whereof the party shall have been duly convicted\, shall exist within the United States\, or any place subject to their jurisdiction. \n  \nSection 2 \nCongress shall have power to enforce this article by appropriate legislation.
URL:https://wyominglwv.org/event/ratification-of-13th-amendment-abolish-slavery/
END:VEVENT
BEGIN:VEVENT
DTSTART;TZID=America/Denver:20251206T000000
DTEND;TZID=America/Denver:20251206T235959
DTSTAMP:20260419T125422
CREATED:20241123T063920Z
LAST-MODIFIED:20241123T070139Z
UID:10827-1764979200-1765065599@wyominglwv.org
SUMMARY:Ratification of 12th Amendment\, Change Presidential Protocol
DESCRIPTION:
URL:https://wyominglwv.org/event/160th-anniversary-ratification-of-12th-amendment/
END:VEVENT
END:VCALENDAR