BEGIN:VCALENDAR
VERSION:2.0
PRODID:-//League of Women Voters of Wyoming - ECPv6.15.13//NONSGML v1.0//EN
CALSCALE:GREGORIAN
METHOD:PUBLISH
X-ORIGINAL-URL:https://wyominglwv.org
X-WR-CALDESC:Events for League of Women Voters of Wyoming
REFRESH-INTERVAL;VALUE=DURATION:PT1H
X-Robots-Tag:noindex
X-PUBLISHED-TTL:PT1H
BEGIN:VTIMEZONE
TZID:America/Denver
BEGIN:DAYLIGHT
TZOFFSETFROM:-0700
TZOFFSETTO:-0600
TZNAME:MDT
DTSTART:20250309T090000
END:DAYLIGHT
BEGIN:STANDARD
TZOFFSETFROM:-0600
TZOFFSETTO:-0700
TZNAME:MST
DTSTART:20251102T080000
END:STANDARD
BEGIN:DAYLIGHT
TZOFFSETFROM:-0700
TZOFFSETTO:-0600
TZNAME:MDT
DTSTART:20260308T090000
END:DAYLIGHT
BEGIN:STANDARD
TZOFFSETFROM:-0600
TZOFFSETTO:-0700
TZNAME:MST
DTSTART:20261101T080000
END:STANDARD
BEGIN:DAYLIGHT
TZOFFSETFROM:-0700
TZOFFSETTO:-0600
TZNAME:MDT
DTSTART:20270314T090000
END:DAYLIGHT
BEGIN:STANDARD
TZOFFSETFROM:-0600
TZOFFSETTO:-0700
TZNAME:MST
DTSTART:20271107T080000
END:STANDARD
END:VTIMEZONE
BEGIN:VEVENT
DTSTART;TZID=America/Denver:20260222T150000
DTEND;TZID=America/Denver:20260222T170000
DTSTAMP:20260424T020547
CREATED:20260113T174307Z
LAST-MODIFIED:20260113T174348Z
UID:12996-1771772400-1771779600@wyominglwv.org
SUMMARY:LWV Laramie Program Planning Meeting
DESCRIPTION:The yearly meeting to update the Laramie League Program Plan\, identifying and discussing priority issues impacting Laramie and Albany County. The meeting will be held at the Wyoming Women’s History House\, 317 S 2nd St\, and all members are invited to attend.
URL:https://wyominglwv.org/event/lwv-laramie-program-planning-meeting-3/
END:VEVENT
END:VCALENDAR