BEGIN:VCALENDAR
VERSION:2.0
PRODID:-//League of Women Voters of Wyoming - ECPv6.15.13//NONSGML v1.0//EN
CALSCALE:GREGORIAN
METHOD:PUBLISH
X-ORIGINAL-URL:https://wyominglwv.org
X-WR-CALDESC:Events for League of Women Voters of Wyoming
REFRESH-INTERVAL;VALUE=DURATION:PT1H
X-Robots-Tag:noindex
X-PUBLISHED-TTL:PT1H
BEGIN:VTIMEZONE
TZID:America/Denver
BEGIN:DAYLIGHT
TZOFFSETFROM:-0700
TZOFFSETTO:-0600
TZNAME:MDT
DTSTART:20250309T090000
END:DAYLIGHT
BEGIN:STANDARD
TZOFFSETFROM:-0600
TZOFFSETTO:-0700
TZNAME:MST
DTSTART:20251102T080000
END:STANDARD
BEGIN:DAYLIGHT
TZOFFSETFROM:-0700
TZOFFSETTO:-0600
TZNAME:MDT
DTSTART:20260308T090000
END:DAYLIGHT
BEGIN:STANDARD
TZOFFSETFROM:-0600
TZOFFSETTO:-0700
TZNAME:MST
DTSTART:20261101T080000
END:STANDARD
BEGIN:DAYLIGHT
TZOFFSETFROM:-0700
TZOFFSETTO:-0600
TZNAME:MDT
DTSTART:20270314T090000
END:DAYLIGHT
BEGIN:STANDARD
TZOFFSETFROM:-0600
TZOFFSETTO:-0700
TZNAME:MST
DTSTART:20271107T080000
END:STANDARD
END:VTIMEZONE
BEGIN:VEVENT
DTSTART;TZID=America/Denver:20260327T160000
DTEND;TZID=America/Denver:20260327T170000
DTSTAMP:20260419T181618
CREATED:20260226T193139Z
LAST-MODIFIED:20260226T193140Z
UID:13120-1774627200-1774630800@wyominglwv.org
SUMMARY:UW book talk about 250th anniversary
DESCRIPTION:Edward Larson will discuss his book Declaring Independence: Why 1776 Matters as part of UW’s America 250 Celebration and the 2nd annual Humanities Summit \n\n\n\nLocation: University of Wyoming Arts & Sciences Auditorium \n\n\n\nTalk will also be live streamed at https://uwyo.video.yuja.com/LiveStream/I/826/1029773352 \n\n\n\nand available with 24 hours at https://uwyo.video.yuja.com/v/larson27mar26
URL:https://wyominglwv.org/event/uw-book-talk-about-250th-anniversary/
END:VEVENT
END:VCALENDAR