BEGIN:VCALENDAR
VERSION:2.0
PRODID:-//League of Women Voters of Wyoming - ECPv6.15.13//NONSGML v1.0//EN
CALSCALE:GREGORIAN
METHOD:PUBLISH
X-WR-CALNAME:League of Women Voters of Wyoming
X-ORIGINAL-URL:https://wyominglwv.org
X-WR-CALDESC:Events for League of Women Voters of Wyoming
REFRESH-INTERVAL;VALUE=DURATION:PT1H
X-Robots-Tag:noindex
X-PUBLISHED-TTL:PT1H
BEGIN:VTIMEZONE
TZID:America/Denver
BEGIN:DAYLIGHT
TZOFFSETFROM:-0700
TZOFFSETTO:-0600
TZNAME:MDT
DTSTART:20230312T090000
END:DAYLIGHT
BEGIN:STANDARD
TZOFFSETFROM:-0600
TZOFFSETTO:-0700
TZNAME:MST
DTSTART:20231105T080000
END:STANDARD
BEGIN:DAYLIGHT
TZOFFSETFROM:-0700
TZOFFSETTO:-0600
TZNAME:MDT
DTSTART:20240310T090000
END:DAYLIGHT
BEGIN:STANDARD
TZOFFSETFROM:-0600
TZOFFSETTO:-0700
TZNAME:MST
DTSTART:20241103T080000
END:STANDARD
BEGIN:DAYLIGHT
TZOFFSETFROM:-0700
TZOFFSETTO:-0600
TZNAME:MDT
DTSTART:20250309T090000
END:DAYLIGHT
BEGIN:STANDARD
TZOFFSETFROM:-0600
TZOFFSETTO:-0700
TZNAME:MST
DTSTART:20251102T080000
END:STANDARD
END:VTIMEZONE
BEGIN:VEVENT
DTSTART;TZID=America/Denver:20240410T170000
DTEND;TZID=America/Denver:20240410T180000
DTSTAMP:20260421T035825
CREATED:20240406T230357Z
LAST-MODIFIED:20240406T230659Z
UID:8444-1712768400-1712772000@wyominglwv.org
SUMMARY:ACSD#1 School Board holds a public hearing:  Beitel School
DESCRIPTION:The public hearing is to consider the consolidation of Beitel Elementary School (811 S 17th Street).   Please attend.  Your input could make all the difference.  Meet in the Laramie Middle School cafeteria. \nThe Board of Trustees will meet\, also in the LMS cafeteria\, following the public hearing.
URL:https://wyominglwv.org/event/acsd1-school-board-holds-a-public-hearing-beitel-school/
END:VEVENT
BEGIN:VEVENT
DTSTART;TZID=America/Denver:20240410T092000
DTEND;TZID=America/Denver:20240410T102000
DTSTAMP:20260421T035825
CREATED:20240407T015620Z
LAST-MODIFIED:20240407T020944Z
UID:8451-1712740800-1712744400@wyominglwv.org
SUMMARY:AI for America:  Advancing US Leadership in AI
DESCRIPTION:The organizers have gathered a panel of four leaders in AI technology from Silicon Valley. One focus of this group is the wisdom of working together.  \nYou must register\, and you’ll receive a link to the livestream in an email. Register here>>>
URL:https://wyominglwv.org/event/ai-for-america-advancing-us-leadership-in-ai/
END:VEVENT
BEGIN:VEVENT
DTSTART;TZID=America/Denver:20240410T080000
DTEND;TZID=America/Denver:20240410T170000
DTSTAMP:20260421T035825
CREATED:20240410T181952Z
LAST-MODIFIED:20240410T181953Z
UID:8479-1712736000-1712768400@wyominglwv.org
SUMMARY:Laramie League Member to Speak at Wyoming Women's History House
DESCRIPTION:Don’t miss the next downtown Laramie’s Wyoming Women’s History House ‘Sip and Savor History’\, today\, April 10\, 4 – 6 pm\, featuring “Stories of Laramie’s Homes” by Albany County Historian and Laramie League Member Judy Knight. Judy will share her favorite stories from the Historic Homes Index which she has helped to create in recent decades. Complete with information on how you\, too\, can research the history of your home\, Judy will give insight to the history and anecdotes of Laramie’s historic homes.
URL:https://wyominglwv.org/event/laramie-league-member-to-speak-at-wyoming-womens-history-house/
END:VEVENT
BEGIN:VEVENT
DTSTART;TZID=America/Denver:20240409T190000
DTEND;TZID=America/Denver:20240409T210000
DTSTAMP:20260421T035825
CREATED:20240404T220958Z
LAST-MODIFIED:20240404T221432Z
UID:8409-1712689200-1712696400@wyominglwv.org
SUMMARY:BluWyo:  Virtual conversation with Dem caucus
DESCRIPTION:Six members of our Democratic Caucus will debrief on the 2024 session\, discuss what to expect and watch for in the interim\, and take a few questions.
URL:https://wyominglwv.org/event/bluwyo-virtual-conversation-with-dem-caucus/
END:VEVENT
BEGIN:VEVENT
DTSTART;TZID=America/Denver:20240406T090000
DTEND;TZID=America/Denver:20240406T110000
DTSTAMP:20260421T035825
CREATED:20240328T211425Z
LAST-MODIFIED:20240328T211425Z
UID:8323-1712394000-1712401200@wyominglwv.org
SUMMARY:LWV Laramie Annual Meeting
DESCRIPTION:The Laramie League is holding its 2024 annual meeting Saturday\, April 6 from 9 am – 11 am at the Wyoming Women’s History House in downtown Laramie. All Laramie members are invited to attend. Refreshments will be served. Virtual attendance will be available.
URL:https://wyominglwv.org/event/lwv-laramie-annual-meeting/
LOCATION:Wyoming Women’s History House\, 317 S 2nd St\, Laramie\, Wyoming\, 82070\, United States
END:VEVENT
BEGIN:VEVENT
DTSTART;TZID=America/Denver:20240405T040000
DTEND;TZID=America/Denver:20240405T173000
DTSTAMP:20260421T035825
CREATED:20240404T210657Z
LAST-MODIFIED:20240404T211222Z
UID:8402-1712289600-1712338200@wyominglwv.org
SUMMARY:Literacy Symposium continues: “The Reading Brain in a Digital World"
DESCRIPTION:Friday’s keynote speaker is Dr. Maryanne Wolf\, Director of the newly created Center for Dyslexia\, Diverse Learners\, and Social Justice at the UCLA Graduate School.  Her talk is sub-titled “The Beauty\, the Threat\, and the Choice Before Us” and will be held in the UW’s COE Library\, Room 506.  You may also watch on Zoom.  Link here to zoom.
URL:https://wyominglwv.org/event/literacy-symposium-continues-the-reading-brain-in-a-digital-world/
END:VEVENT
BEGIN:VEVENT
DTSTART;TZID=America/Denver:20240404T160000
DTEND;TZID=America/Denver:20240404T173000
DTSTAMP:20260421T035825
CREATED:20240404T204908Z
LAST-MODIFIED:20240404T210042Z
UID:8396-1712246400-1712251800@wyominglwv.org
SUMMARY:Two-day Literacy Symposium:  Solving the Frankenstein Problem
DESCRIPTION:Thursday’s keynote speaker is Dr. Mary Helen Immordino-Yang\, director of UCLA’s Center for Dyslexia\, Diverse Learners\, and Social Justice.  The sub-title of her talk is “Why All Thinking is Social\, Emotional\, Cultural\, and Cognitive to the Brain.”  Her talk will be held in the UW’s COE Library\, Room 506.  You may also watch on Zoom.  Link here to zoom.  If you want to hear more\, catch an NPR podcast here.
URL:https://wyominglwv.org/event/uw-honors-2-day-literacy-hybrid-event-solving-the-frankenstein-problem/
END:VEVENT
BEGIN:VEVENT
DTSTART;TZID=America/Denver:20240403T173000
DTEND;TZID=America/Denver:20240403T190000
DTSTAMP:20260421T035825
CREATED:20240202T041420Z
LAST-MODIFIED:20240305T050534Z
UID:7780-1712165400-1712170800@wyominglwv.org
SUMMARY:LWV Cheyenne Annual Meeting
DESCRIPTION:The Annual Meeting for the League of Women Voters of Cheyenne will take place on April 3rd in the Sage room on the second floor of the Laramie County Public Library.
URL:https://wyominglwv.org/event/lwv-cheyenne-annual-meeting/
LOCATION:Laramie County Public Library\, Sage Room\, 2200 Pioneer Ave\, Cheyenne\, Wyoming\, 82001\, United States
END:VEVENT
BEGIN:VEVENT
DTSTART;TZID=America/Denver:20240402T183000
DTEND;TZID=America/Denver:20240402T200000
DTSTAMP:20260421T035825
CREATED:20240320T194727Z
LAST-MODIFIED:20240320T200342Z
UID:8223-1712082600-1712088000@wyominglwv.org
SUMMARY:Rostros Migrantes:  Hosted by UW Global Studies
DESCRIPTION:Catered event.  Speakers will be the artist Dr. Derli Romero and Dr. Kimberle López associate professor of Latin American literature.  This is a hybrid event\, connect by the QR code below or find yourself at Visual Arts III. \n \n 
URL:https://wyominglwv.org/event/rostros-migrantes-hosted-by-uw-global-studies/
END:VEVENT
BEGIN:VEVENT
DTSTART;TZID=America/Denver:20240328T130000
DTEND;TZID=America/Denver:20240328T130000
DTSTAMP:20260421T035825
CREATED:20240320T193217Z
LAST-MODIFIED:20240320T194124Z
UID:8218-1711630800-1711630800@wyominglwv.org
SUMMARY:Webinar:  Nonprofits & Elections 2024
DESCRIPTION:Featured Speakers: \n\n\nKeynote: Vu Le\, Nonprofit AF \n\nHost: Gwen Stembridge\, Education & Partnerships Coordinator\, Nonprofit VOTE\n\nSpeaker: Erika Anthony\, Co-Founder & Executive Director\, Cleveland VOTES \n\nSpeaker: Selina Pagan\, Co-Executive Director of Operations & Development\, Young Latino Network\nSpeaker: Osvaldo Grimaldo: Civic Engagement Coordinator\, Houston Food Bank\n\nRSVP:  bit.ly/RallyTheSector \nSign up to receive a follow up email containing a full recording and the entire slideshow.  Sponsored by Nonprofit Vote.
URL:https://wyominglwv.org/event/webinar-nonprofits-elections-2024/
END:VEVENT
BEGIN:VEVENT
DTSTART;TZID=America/Denver:20240327T150000
DTEND;TZID=America/Denver:20240327T160000
DTSTAMP:20260421T035825
CREATED:20240319T211555Z
LAST-MODIFIED:20240319T212104Z
UID:8201-1711551600-1711555200@wyominglwv.org
SUMMARY:LWV monthly meeting:  March Community Call
DESCRIPTION:This month the emphasis will be on an LWV Election Observation Program.  These community calls are open to all league members.  You must register to attend>>> \n 
URL:https://wyominglwv.org/event/lwv-monthly-meeting-march-community-call/
END:VEVENT
BEGIN:VEVENT
DTSTART;TZID=America/Denver:20240327T120000
DTEND;TZID=America/Denver:20240327T120000
DTSTAMP:20260421T035825
CREATED:20240227T231424Z
LAST-MODIFIED:20240227T231712Z
UID:7965-1711540800-1711540800@wyominglwv.org
SUMMARY:Tax Facts:  Recap of 2024 Budget Session
DESCRIPTION:This event requires registration>>> \n 
URL:https://wyominglwv.org/event/tax-facts-recap-of-2024-budget-session/
END:VEVENT
BEGIN:VEVENT
DTSTART;TZID=America/Denver:20240327T120000
DTEND;TZID=America/Denver:20240327T140000
DTSTAMP:20260421T035825
CREATED:20240202T003407Z
LAST-MODIFIED:20240202T003408Z
UID:7774-1711540800-1711548000@wyominglwv.org
SUMMARY:Legislative Wrap-Up on Taxes:  what happened?
DESCRIPTION:
URL:https://wyominglwv.org/event/legislative-wrap-up-on-taxes-what-happened/
END:VEVENT
BEGIN:VEVENT
DTSTART;TZID=America/Denver:20240326T120000
DTEND;TZID=America/Denver:20240326T120000
DTSTAMP:20260421T035825
CREATED:20231228T172347Z
LAST-MODIFIED:20231228T174639Z
UID:7543-1711454400-1711454400@wyominglwv.org
SUMMARY:4th Anniversary Rucho v. LWVNC: no best way to redistrict
DESCRIPTION:The National LWV obtained historic funding for its campaign People Powered Fair Maps™ to “ educate a broad community on the techniques and legalities of redistricting after the 2020 census.  SCOTUS ruled on this early case that there is no recognized best method to determine when a new map becomes unfair.  Watch a video showing the outrageously shaped NC districts and read more>>>
URL:https://wyominglwv.org/event/4th-anniversary-rucho-v-lwvnc-no-best-way-to-redistrict/
ATTACH;FMTTYPE=image/png:https://wyominglwv.org/wp-content/uploads/2023/12/districting-NC.png
END:VEVENT
BEGIN:VEVENT
DTSTART;TZID=America/Denver:20240325T090000
DTEND;TZID=America/Denver:20240325T103000
DTSTAMP:20260421T035825
CREATED:20240317T011217Z
LAST-MODIFIED:20240317T011643Z
UID:8132-1711357200-1711362600@wyominglwv.org
SUMMARY:Cheyenne Roundup:  2024 Session overview
DESCRIPTION:The star-studded podcast crew includes WyoFile’s reporter Maggie Mullen\, and WPM’s Chris Clements and David Dudley.  Former Wyoming Public Media News Director Bob Beck will moderate the conversation.  The Zoom link will be available soon.
URL:https://wyominglwv.org/event/cheyenne-roundup-2024-session-overview/
END:VEVENT
BEGIN:VEVENT
DTSTART;TZID=America/Denver:20240322T120000
DTEND;TZID=America/Denver:20240322T130000
DTSTAMP:20260421T035825
CREATED:20240315T225922Z
LAST-MODIFIED:20240316T192336Z
UID:8101-1711108800-1711112400@wyominglwv.org
SUMMARY:WY Women's Foundation:  Legislative recap + Interim preview
DESCRIPTION:WYWF is the umbrella organization for three subgroups as illustrated above. LWVWY often partners with WYWF on issues important to women. You must preregister>>>
URL:https://wyominglwv.org/event/wy-womens-foundation-legislative-recap/
END:VEVENT
BEGIN:VEVENT
DTSTART;TZID=America/Denver:20240319T190000
DTEND;TZID=America/Denver:20240319T200000
DTSTAMP:20260421T035825
CREATED:20240307T180809Z
LAST-MODIFIED:20240307T181206Z
UID:8073-1710874800-1710878400@wyominglwv.org
SUMMARY:Casper League Member to Speak in Laramie
DESCRIPTION:The Albany County Historical Society is hosting Kylie Louise McCormick presenting “Fifty-One Years of Freedom: Wyoming’s Suffrage Story from 1869-1920”\, at 7 pm in the WY Territorial Prison’s Horse Barn Theater. Kylie is a member of the Casper League and is a historian and public speaker.
URL:https://wyominglwv.org/event/casper-league-member-to-speak-in-laramie/
END:VEVENT
BEGIN:VEVENT
DTSTART;TZID=America/Denver:20240318T190000
DTEND;TZID=America/Denver:20240318T203000
DTSTAMP:20260421T035825
CREATED:20240318T012541Z
LAST-MODIFIED:20240318T014812Z
UID:8144-1710788400-1710793800@wyominglwv.org
SUMMARY:Progressive Voter Alliance (PVA):  Kayla White & Nancy Lockwood
DESCRIPTION:Kayla White\, the Albany Co. Clerk\, and Nancy Lockwood\, the President of the LWVWY\, are invited by PVA to be the featured speakers tomorrow at the Unitarian Fellowship building located at 1402 Gibbon.  They also invite us to watch on their FaceBook channel. \nThey will discuss important aspects of voter registration and candidate filings. Attendees are encouraged to come prepared with questions. After the featured speakers\, the PVA will continue their tradition of allowing anyone to speak for 2 minutes. 
URL:https://wyominglwv.org/event/progressive-voter-alliance-kayla-white-nancy-lockwood/
END:VEVENT
BEGIN:VEVENT
DTSTART;TZID=America/Denver:20240312T083000
DTEND;TZID=America/Denver:20240312T113000
DTSTAMP:20260421T035825
CREATED:20240313T045703Z
LAST-MODIFIED:20240313T050337Z
UID:8079-1710232200-1710243000@wyominglwv.org
SUMMARY:Management Council assigns Interim topics
DESCRIPTION:Management Council (MC) will assign interim committee topics and consider topics for MC to study during the 2024 interim. \nLSO will accept questions at (307) 777-7881. \nAll materials provided to the Committee in written form will be part of the official record of the Committee’s meeting and will be on file at the Legislative Service Office.
URL:https://wyominglwv.org/event/management-council-assigns-interim-topics/
END:VEVENT
BEGIN:VEVENT
DTSTART;TZID=America/Denver:20240308T120000
DTEND;TZID=America/Denver:20240308T120000
DTSTAMP:20260421T035825
CREATED:20231228T165348Z
LAST-MODIFIED:20231228T171556Z
UID:7538-1709899200-1709899200@wyominglwv.org
SUMMARY:International Women's Day
DESCRIPTION:International Women’s Day has been around since 1911.  It’s supported by organizations\, groups\, governments\, and individuals worldwide committed to a more gender-equal world. \nThe International Women’s Day website is the go-to hub for everything IWD and provides detailed information\, guidance\, and resources.  Read more >>>
URL:https://wyominglwv.org/event/international-womens-day-5/
END:VEVENT
BEGIN:VEVENT
DTSTART;TZID=America/Denver:20240305T140000
DTEND;TZID=America/Denver:20240305T150000
DTSTAMP:20260421T035825
CREATED:20240228T000005Z
LAST-MODIFIED:20240228T001218Z
UID:7989-1709647200-1709650800@wyominglwv.org
SUMMARY:LWVUS Board hosts DEI Committee on policy update
DESCRIPTION:“Transformation:  Are you ready to move forward?”  Honoring our organizational commitment to diversity\, equity\, and inclusion in “principle and practice” is not simple or easy\, but it is essential. Committee members will review our DEI policy and practices that continue to advance our mission during this webinar.  Registration is required>>>
URL:https://wyominglwv.org/event/lwvus-board-hosts-dei-committee-on-policy-update/
END:VEVENT
BEGIN:VEVENT
DTSTART;TZID=America/Denver:20240301T160000
DTEND;TZID=America/Denver:20240301T160000
DTSTAMP:20260421T035825
CREATED:20240219T031021Z
LAST-MODIFIED:20240219T035832Z
UID:7911-1709308800-1709308800@wyominglwv.org
SUMMARY:Interim topic suggestions due
DESCRIPTION:Topic suggestions should be submitted or sponsored by a legislator\, and presented to the committee by a legislator.  Download a suggestion form>>> Friday\, March 1\, 2024\, at 4:00 pm. 
URL:https://wyominglwv.org/event/interim-topic-suggestions-due/
END:VEVENT
BEGIN:VEVENT
DTSTART;TZID=America/Denver:20240229T170000
DTEND;TZID=America/Denver:20240229T180000
DTSTAMP:20260421T035825
CREATED:20240227T230544Z
LAST-MODIFIED:20240227T231118Z
UID:7959-1709226000-1709229600@wyominglwv.org
SUMMARY:Wrap Up:  People's Review Live!
DESCRIPTION:Sponsored by our friends at ESPC\, this live Zoom conference requires  registration>>>
URL:https://wyominglwv.org/event/wrap-up-peoples-review-live/
END:VEVENT
BEGIN:VEVENT
DTSTART;TZID=America/Denver:20240228T150000
DTEND;TZID=America/Denver:20240228T160000
DTSTAMP:20260421T035825
CREATED:20240227T234349Z
LAST-MODIFIED:20240227T235606Z
UID:7978-1709132400-1709136000@wyominglwv.org
SUMMARY:LWVUS:  League Activity & Action Call
DESCRIPTION:LWVUS hosts a reoccurring league-wide field call open to all LWV members. LWV field calls aim to align and coordinate our League community about upcoming events\, issues\, and activities happening with LWV Leagues.   The event requires that you register>>>
URL:https://wyominglwv.org/event/lwvus-league-activity-action-call/
END:VEVENT
BEGIN:VEVENT
DTSTART;TZID=America/Denver:20240227T120000
DTEND;TZID=America/Denver:20240227T120000
DTSTAMP:20260421T035825
CREATED:20231228T164415Z
LAST-MODIFIED:20231228T165111Z
UID:7534-1709035200-1709035200@wyominglwv.org
SUMMARY:102nd anniversary Leser v. Garnett decision affirming 19th Amendment
DESCRIPTION:Maryland did not ratify the 19th Amendment and two months after the federal government had\, two women tried to vote in Maryland.  The Maryland legislature sued on the grounds of their gender and lost.   Justice Brandeis wrote the decision.  Read more>>>
URL:https://wyominglwv.org/event/102nd-anniversary-leser-v-garnett-decision-affirming-19th-amendment/
END:VEVENT
BEGIN:VEVENT
DTSTART;TZID=America/Denver:20240225T150000
DTEND;TZID=America/Denver:20240225T170000
DTSTAMP:20260421T035825
CREATED:20240206T190645Z
LAST-MODIFIED:20240206T190645Z
UID:7806-1708873200-1708880400@wyominglwv.org
SUMMARY:LWV Laramie Program Planning Meeting
DESCRIPTION:
URL:https://wyominglwv.org/event/lwv-laramie-program-planning-meeting/
END:VEVENT
BEGIN:VEVENT
DTSTART;TZID=America/Denver:20240215T153000
DTEND;TZID=America/Denver:20240215T170000
DTSTAMP:20260421T035825
CREATED:20240119T183454Z
LAST-MODIFIED:20240119T183455Z
UID:7702-1708011000-1708016400@wyominglwv.org
SUMMARY:LWVWY Bylaws Committee
DESCRIPTION:A Zoom meeting to work on revising and updating bylaws\, standing rules\, and procedures.  Email info at  wyominglwv.org for access at least a day before.
URL:https://wyominglwv.org/event/lwvwy-bylaws-committee/
END:VEVENT
BEGIN:VEVENT
DTSTART;TZID=America/Denver:20240214T120000
DTEND;TZID=America/Denver:20240214T120000
DTSTAMP:20260421T035825
CREATED:20230830T054411Z
LAST-MODIFIED:20230830T054411Z
UID:7056-1707912000-1707912000@wyominglwv.org
SUMMARY:Valentines Day + 104th Bday of LWV
DESCRIPTION:
URL:https://wyominglwv.org/event/valentines-day-104th-bday-of-lwv/
END:VEVENT
BEGIN:VEVENT
DTSTART;TZID=America/Denver:20240213T173000
DTEND;TZID=America/Denver:20240213T190000
DTSTAMP:20260421T035825
CREATED:20240211T210819Z
LAST-MODIFIED:20240212T004110Z
UID:7842-1707845400-1707850800@wyominglwv.org
SUMMARY:Panel:  legacy of religious-rights litigation
DESCRIPTION:Steve Collis\, clinical law professor and Law and Religion Clinic director at UT Austin\, is the keynote speaker at a public event at LCCC. Matt Micheli a longtime lawyer at a large law firm in the Rocky Mountain area\, organized a panel that “cuts across the ideological spectrum\,” highlighting any blind spots any of us may have. \n\nSuperintendent of Public Instruction Megan Degenfelder\n\n\n\nWyoming Sen. Affie Ellis\, R-Cheyenne\, who works in American Indian law \n\n\nNathan Winters\, President of the Protestant-minded Wyoming Family Alliance group \n\n\nDeacon Mike Leman\, who lobbies on behalf of the Catholic Diocese of Cheyenne
URL:https://wyominglwv.org/event/panel-discussion-legacy-of-religious-rights-litigation/
END:VEVENT
BEGIN:VEVENT
DTSTART;TZID=America/Denver:20240212T100000
DTEND;TZID=America/Denver:20240212T100000
DTSTAMP:20260421T035825
CREATED:20230830T054228Z
LAST-MODIFIED:20230830T054229Z
UID:7054-1707732000-1707732000@wyominglwv.org
SUMMARY:WY Budget Session convenes
DESCRIPTION:
URL:https://wyominglwv.org/event/wy-budget-session-convenes/
END:VEVENT
END:VCALENDAR