BEGIN:VCALENDAR
VERSION:2.0
PRODID:-//League of Women Voters of Wyoming - ECPv6.15.13//NONSGML v1.0//EN
CALSCALE:GREGORIAN
METHOD:PUBLISH
X-WR-CALNAME:League of Women Voters of Wyoming
X-ORIGINAL-URL:https://wyominglwv.org
X-WR-CALDESC:Events for League of Women Voters of Wyoming
REFRESH-INTERVAL;VALUE=DURATION:PT1H
X-Robots-Tag:noindex
X-PUBLISHED-TTL:PT1H
BEGIN:VTIMEZONE
TZID:America/Denver
BEGIN:DAYLIGHT
TZOFFSETFROM:-0700
TZOFFSETTO:-0600
TZNAME:MDT
DTSTART:20220313T090000
END:DAYLIGHT
BEGIN:STANDARD
TZOFFSETFROM:-0600
TZOFFSETTO:-0700
TZNAME:MST
DTSTART:20221106T080000
END:STANDARD
BEGIN:DAYLIGHT
TZOFFSETFROM:-0700
TZOFFSETTO:-0600
TZNAME:MDT
DTSTART:20230312T090000
END:DAYLIGHT
BEGIN:STANDARD
TZOFFSETFROM:-0600
TZOFFSETTO:-0700
TZNAME:MST
DTSTART:20231105T080000
END:STANDARD
BEGIN:DAYLIGHT
TZOFFSETFROM:-0700
TZOFFSETTO:-0600
TZNAME:MDT
DTSTART:20240310T090000
END:DAYLIGHT
BEGIN:STANDARD
TZOFFSETFROM:-0600
TZOFFSETTO:-0700
TZNAME:MST
DTSTART:20241103T080000
END:STANDARD
END:VTIMEZONE
BEGIN:VEVENT
DTSTART;TZID=America/Denver:20231213T130000
DTEND;TZID=America/Denver:20231213T140000
DTSTAMP:20260419T134947
CREATED:20231208T012535Z
LAST-MODIFIED:20231208T012535Z
UID:7448-1702472400-1702476000@wyominglwv.org
SUMMARY:The ERA turns 100:  Join a Virtual Call to Action
DESCRIPTION:
URL:https://wyominglwv.org/event/the-era-turns-100-join-a-virtual-call-to-action/
END:VEVENT
BEGIN:VEVENT
DTSTART;TZID=America/Denver:20231210T123000
DTEND;TZID=America/Denver:20231210T143000
DTSTAMP:20260419T134947
CREATED:20231205T021335Z
LAST-MODIFIED:20231205T021335Z
UID:7417-1702211400-1702218600@wyominglwv.org
SUMMARY:Cheyenne League Celebration of Wyoming Day
DESCRIPTION:On Dec. 10\, 1869\, Wyoming Territorial Governor John Campbell signed legislation that explicitly granted women the right to vote and to hold public office\, and what better way for the Cheyenne League of Women Voters to honor that than to kick off its 2024 membership drive. \n\n\n\nWe will meet in the “garage room” of The Office Bar & Grill at 1600 Pershing Blvd\, and you may order lunch off the menu or simply have a cup of coffee.
URL:https://wyominglwv.org/event/cheyenne-league-celebration-of-wyoming-day/
END:VEVENT
BEGIN:VEVENT
DTSTART;TZID=America/Denver:20231207T120000
DTEND;TZID=America/Denver:20231207T130000
DTSTAMP:20260419T134947
CREATED:20231207T033023Z
LAST-MODIFIED:20231207T035349Z
UID:7423-1701950400-1701954000@wyominglwv.org
SUMMARY:WY Outdoor Council:  enjoy the talk "Birds & Pathogens"
DESCRIPTION:  \nThis event with Eric C. Atkinson is onsite and virtual.  Register in advance >>> \n Mr. Atkinson works with undergrads from NW Community College on a project to investigate a “diverse pathogen assemblage”  infecting 57 different avian species in NE Yellowstone. 
URL:https://wyominglwv.org/event/wy-outdoor-council-enjoy-the-talk-birds-pathogens/
END:VEVENT
BEGIN:VEVENT
DTSTART;TZID=America/Denver:20231206T180000
DTEND;TZID=America/Denver:20231206T193000
DTSTAMP:20260419T134947
CREATED:20231206T231802Z
LAST-MODIFIED:20231207T032618Z
UID:7419-1701885600-1701891000@wyominglwv.org
SUMMARY:4th GOP candidates' debate TONIGHT
DESCRIPTION:Four candidates will participate in this debate
URL:https://wyominglwv.org/event/4th-gop-candidates-debate-tonight/
END:VEVENT
BEGIN:VEVENT
DTSTART;TZID=America/Denver:20231206T000000
DTEND;TZID=America/Denver:20231206T120000
DTSTAMP:20260419T134947
CREATED:20221207T004045Z
LAST-MODIFIED:20221207T005421Z
UID:4425-1701820800-1701864000@wyominglwv.org
SUMMARY:Anniversary of the 13th Amendment Abolishing Slavery
DESCRIPTION:Ratified on December 6\, 1865\, this Amendment was the first of three called the “Civil War Amendments.”  A tug-of-war between Congress and the Supreme Court ensued where SCOTUS claimed that Congress exceeded its powers with the enforcement section and that stating that private discrimination was not slavery.  The text of the Amendment is below.  \nSection 1 \nNeither slavery nor involuntary servitude\, except as a punishment for crime whereof the party shall have been duly convicted\, shall exist within the United States\, or any place subject to their jurisdiction. \n\n\n \nSection 2 \n\n\n \nCongress shall have power to enforce this article by appropriate legislation.
URL:https://wyominglwv.org/event/anniversary-of-the-13th-amendment-abolishing-slavery/
END:VEVENT
BEGIN:VEVENT
DTSTART;TZID=America/Denver:20231204T190000
DTEND;TZID=America/Denver:20231204T203000
DTSTAMP:20260419T134947
CREATED:20231115T203109Z
LAST-MODIFIED:20231115T203109Z
UID:7322-1701716400-1701721800@wyominglwv.org
SUMMARY:WY State Board meeting
DESCRIPTION:
URL:https://wyominglwv.org/event/wy-state-board-meeting/
END:VEVENT
BEGIN:VEVENT
DTSTART;TZID=America/Denver:20231130T173000
DTEND;TZID=America/Denver:20231130T183000
DTSTAMP:20260419T134947
CREATED:20231130T171312Z
LAST-MODIFIED:20231130T171412Z
UID:7405-1701365400-1701369000@wyominglwv.org
SUMMARY:Better WY webinar: Trey Sherwood on Budget Sessions
DESCRIPTION:Rep. Sherwood (D-Alabany Co) will provide us with an overview of the budget process and some of the priorities and concerns she has looking forward to the 2024 session. \n  \nSince the webinar is hosted by Better WY\, their team will provide updates on campaign activities and information about upcoming trainings\, advocacy opportunities\, … read more>>>
URL:https://wyominglwv.org/event/better-wy-webinar-trey-sherwood-on-budget-sessions/
END:VEVENT
BEGIN:VEVENT
DTSTART;TZID=America/Denver:20231130T110000
DTEND;TZID=America/Denver:20231130T120000
DTSTAMP:20260419T134947
CREATED:20231121T025311Z
LAST-MODIFIED:20231121T032309Z
UID:7387-1701342000-1701345600@wyominglwv.org
SUMMARY:Better Arguments webinar
DESCRIPTION:This training is an intro to the Three Dimensions and Five Principles from the Better Arguments Project.  You must register to attend.  Read more>>> \nGood arguments don’t divide people.  Watch this 3-minute  video for a short preview from the Aspen Institute.  \n 
URL:https://wyominglwv.org/event/better-arguments-webinar/
END:VEVENT
BEGIN:VEVENT
DTSTART;TZID=America/Denver:20231128T234500
DTEND;TZID=America/Denver:20231128T235900
DTSTAMP:20260419T134947
CREATED:20230813T030542Z
LAST-MODIFIED:20230813T030542Z
UID:6922-1701215100-1701215940@wyominglwv.org
SUMMARY:Giving Tuesday
DESCRIPTION:
URL:https://wyominglwv.org/event/giving-tuesday/
END:VEVENT
BEGIN:VEVENT
DTSTART;TZID=America/Denver:20231128T183000
DTEND;TZID=America/Denver:20231128T200000
DTSTAMP:20260419T134947
CREATED:20231120T195227Z
LAST-MODIFIED:20231120T232905Z
UID:7350-1701196200-1701201600@wyominglwv.org
SUMMARY:Laramie LWV Board Meeting
DESCRIPTION:
URL:https://wyominglwv.org/event/laramie-lwv-board-meeting/
END:VEVENT
BEGIN:VEVENT
DTSTART;TZID=America/Denver:20231124T120000
DTEND;TZID=America/Denver:20231124T120000
DTSTAMP:20260419T134947
CREATED:20230813T214126Z
LAST-MODIFIED:20230813T223616Z
UID:6942-1700827200-1700827200@wyominglwv.org
SUMMARY:Native American Heritage Day
DESCRIPTION:
URL:https://wyominglwv.org/event/native-american-heritage-day-2/
END:VEVENT
BEGIN:VEVENT
DTSTART;TZID=America/Denver:20231123T000000
DTEND;TZID=America/Denver:20231123T235959
DTSTAMP:20260419T134947
CREATED:20230813T210811Z
LAST-MODIFIED:20230813T213154Z
UID:6937-1700697600-1700783999@wyominglwv.org
SUMMARY:Thanksgiving
DESCRIPTION:The Constitutional Congress declared this a holiday once the Constitution was signed in 1798.  However\, the idea was backtracked to be left to each state to decide.  At the time it was celebrated with prayer and some thought that the Federal government best not dictate religious holidays. \nFun fact:  President Franklin D. Roosevelt tried to extend the Christmas shopping holiday by moving Thanksgiving from the 4th Thursday to the 3rd Thursday in November.  Not all states wanted the change and in 1941 Congress made it law to celebrate Thanksgiving on the 4th Thursday.
URL:https://wyominglwv.org/event/thanksgiving/
END:VEVENT
BEGIN:VEVENT
DTSTART;TZID=America/Denver:20231115T083000
DTEND;TZID=America/Denver:20231115T083000
DTSTAMP:20260419T134947
CREATED:20231114T051032Z
LAST-MODIFIED:20231114T051122Z
UID:7293-1700037000-1700037000@wyominglwv.org
SUMMARY:WY School Board & Board of Tech Ed Meetings in Casper
DESCRIPTION:
URL:https://wyominglwv.org/event/wy-school-board-the-board-of-tech-ed/
END:VEVENT
BEGIN:VEVENT
DTSTART;TZID=America/Denver:20231115T000000
DTEND;TZID=America/Denver:20231121T235959
DTSTAMP:20260419T134947
CREATED:20231120T225627Z
LAST-MODIFIED:20231120T230351Z
UID:7356-1700006400-1700611199@wyominglwv.org
SUMMARY:Red Shawl Week
DESCRIPTION:November is Native American Heritage Month. During November\, some days and weeks are specially designed to celebrate and acknowledge Indigenous people. One of these weeks is Red Shawl Week. Red Shawl Week works to pay tribute to Indigenous individuals who have experienced violence\, marking many who have died as a result.
URL:https://wyominglwv.org/event/red-shawl-week/
END:VEVENT
BEGIN:VEVENT
DTSTART;TZID=America/Denver:20231111T234500
DTEND;TZID=America/Denver:20231111T235000
DTSTAMP:20260419T134947
CREATED:20230813T202442Z
LAST-MODIFIED:20230813T224021Z
UID:6930-1699746300-1699746600@wyominglwv.org
SUMMARY:Veterans' Day
DESCRIPTION:Initiated on the first anniversary of the 1918 signing of the Armistice\, November 11 became a federal holiday in 1938.  First called Armistice Day\, in 1954 it was renamed Veterans’ Day.  A version of remembrance is held in Commonwealth countries and Europe.  Because of a celebrated WWI poem about Flanders Fields\, red poppies symbolized the soldiers who sacrificed their lives.  Since the November US holiday remembers living veterans\, poppies are worn on Memorial Day — the last Monday in May — the day when the US honors its fallen soldiers. \n \n 
URL:https://wyominglwv.org/event/veterans-day/
END:VEVENT
BEGIN:VEVENT
DTSTART;TZID=America/Denver:20231111T000000
DTEND;TZID=America/Denver:20231111T235959
DTSTAMP:20260419T134947
CREATED:20231108T211704Z
LAST-MODIFIED:20231108T211705Z
UID:7287-1699660800-1699747199@wyominglwv.org
SUMMARY:Origami Day:
DESCRIPTION:
URL:https://wyominglwv.org/event/origami-day/
END:VEVENT
BEGIN:VEVENT
DTSTART;TZID=America/Denver:20231111T000000
DTEND;TZID=America/Denver:20231111T120000
DTSTAMP:20260419T134947
CREATED:20221211T001948Z
LAST-MODIFIED:20221211T004158Z
UID:4569-1699660800-1699704000@wyominglwv.org
SUMMARY:Red Shawl Day: Remembering Missing & Murdered Indigenous Women
DESCRIPTION:Red Shawl Day is an annual national effort to bring attention to the acts of violence committed against Indigenous people\, particularly women and children.  \n\n\n\nAmerica‘s national parks are part of and surrounded by many Indigenous communities.  Being aware and spreading awareness of this issue can save lives. \n Read more>>>
URL:https://wyominglwv.org/event/red-shawl-day-remembering-missing-murdered-indigenous-women/
END:VEVENT
BEGIN:VEVENT
DTSTART;TZID=America/Denver:20231108T180000
DTEND;TZID=America/Denver:20231108T200000
DTSTAMP:20260419T134947
CREATED:20231102T023340Z
LAST-MODIFIED:20231102T024054Z
UID:7256-1699466400-1699473600@wyominglwv.org
SUMMARY:3rd GOP Presidential Candidates' Debate
DESCRIPTION:Moderated and televised by NBC\, the participating candidates will be announced soon.  The debate takes place in Miami.  Read more>>>
URL:https://wyominglwv.org/event/3rd-gop-presidential-candidates-debate/
END:VEVENT
BEGIN:VEVENT
DTSTART;TZID=America/Denver:20231107T173000
DTEND;TZID=America/Denver:20231107T194500
DTSTAMP:20260419T134947
CREATED:20231108T005628Z
LAST-MODIFIED:20231108T200006Z
UID:7274-1699378200-1699386300@wyominglwv.org
SUMMARY:UW Law School presents:  Transboundary Waters
DESCRIPTION:The Silala River is in dispute between Chile and Bolivia.  The conflict was heard before the International Court.  The map below shows that this river lies mostly on the left side of the red boundary. However\, the spring from which the spring is born is on the right side. \nWhy is this case the centerpiece of the current issue of a WY law journal?  The case serves as a view toward the future when natural resources are in dispute.
URL:https://wyominglwv.org/event/uw-law-school-presents-transboundary-water/
END:VEVENT
BEGIN:VEVENT
DTSTART;TZID=America/Denver:20231107T000000
DTEND;TZID=America/Denver:20231107T235959
DTSTAMP:20260419T134947
CREATED:20221206T202045Z
LAST-MODIFIED:20230813T224451Z
UID:4410-1699315200-1699401599@wyominglwv.org
SUMMARY:General Election Day
DESCRIPTION:Since Washington’s reelection in 1792\, presidential elections are held in even years.  It wasn’t until after the US Civil War that legislative elections were (mostly) held in even years as well.  Cost and turnout are the main reasons for aligning elections at the same time.  With few exceptions–MS\, KY\, NJ\, LA\, and VI–state and federal elections are not held in odd years.  Mostly\, these states wanted to avoid Federal intervention and troops overseeing their elections. \nBelow is a schematic of the House seating in 1872.  Red is Republican\, but back then the party had split into two
URL:https://wyominglwv.org/event/general-election-day/
END:VEVENT
BEGIN:VEVENT
DTSTART;TZID=America/Denver:20231106T190000
DTEND;TZID=America/Denver:20231106T203000
DTSTAMP:20260419T134947
CREATED:20231107T053704Z
LAST-MODIFIED:20231108T005223Z
UID:7267-1699297200-1699302600@wyominglwv.org
SUMMARY:Wyoming State LWV: Board meeting
DESCRIPTION:The zoom link is https://us02web.zoom.us/j/87880427297 and the meeting ID is 878 8042 7297.  The agenda is attached here and other meeting documents are in an email from LWV Wyoming (Nancy Lockwood) dated 8/6/2023 at 8:13 PM. \n\n\n\n20230707 LWVWY board agenda
URL:https://wyominglwv.org/event/wyoming-state-lwv-board-meeting/
END:VEVENT
BEGIN:VEVENT
DTSTART;TZID=America/Denver:20231106T000000
DTEND;TZID=America/Denver:20231106T120000
DTSTAMP:20260419T134947
CREATED:20221207T063621Z
LAST-MODIFIED:20221207T064348Z
UID:4441-1699228800-1699272000@wyominglwv.org
SUMMARY:Election Heroes Day
DESCRIPTION:This is the third of the 2020 additions to the election cycle\, sponsored and supported by the Civic Responsibility Group.  To quote the landing page of their website:  we will recognize the immense importance and work of election administration teams\, poll workers\, and more across the nation.  Heroes Day\,  a day of reflection and appreciation\, falls on the Monday before Election Day.
URL:https://wyominglwv.org/event/election-heros-day/
END:VEVENT
BEGIN:VEVENT
DTSTART;TZID=America/Denver:20231102T000000
DTEND;TZID=America/Denver:20231106T235000
DTSTAMP:20260419T134947
CREATED:20230813T195353Z
LAST-MODIFIED:20230813T202144Z
UID:6926-1698883200-1699314600@wyominglwv.org
SUMMARY:National Voter Education Week
DESCRIPTION:
URL:https://wyominglwv.org/event/national-voter-education-week/
END:VEVENT
BEGIN:VEVENT
DTSTART;TZID=America/Denver:20231027T000000
DTEND;TZID=America/Denver:20231027T120000
DTSTAMP:20260419T134947
CREATED:20221206T085521Z
LAST-MODIFIED:20221206T091007Z
UID:4401-1698364800-1698408000@wyominglwv.org
SUMMARY:Vote Early Day
DESCRIPTION:Vote Early Day was founded by MTV as a new civic holiday.  The plan was to help every voter know how\, where\, and when they can vote early.   It was launched at the start of the covid-19 years and voting early and from home took on new importance.  In 2020 MTV was joined by 134 premier partners and 2\,700 general partners from every state in the nation. Over 3\,000\,000 voters cast their ballots on Vote Early Day.  MTV offered special programming on this day.  Read more>>>
URL:https://wyominglwv.org/event/vote-early-day/
END:VEVENT
BEGIN:VEVENT
DTSTART;TZID=America/Denver:20231026T130000
DTEND;TZID=America/Denver:20231026T140000
DTSTAMP:20260419T134947
CREATED:20231005T025011Z
LAST-MODIFIED:20231005T025607Z
UID:7195-1698325200-1698328800@wyominglwv.org
SUMMARY:LWVUS webinar on ClubExpress
DESCRIPTION:LWVUS and ClubExpress cohost this webinar to discuss what the adoption of the new LWV national membership platform means for Leagues currently using ClubExpress\, as well as any local Leagues and state organizations that are considering signing up for ClubExpress. \nAny interested League member is invited\, and the session will be recorded for those who cannot attend. \nYou must register>>>
URL:https://wyominglwv.org/event/lwvus-webinar-on-clubexpress/
END:VEVENT
BEGIN:VEVENT
DTSTART;TZID=America/Denver:20231025T120000
DTEND;TZID=America/Denver:20231025T120000
DTSTAMP:20260419T134947
CREATED:20230914T035505Z
LAST-MODIFIED:20230914T043210Z
UID:7101-1698235200-1698235200@wyominglwv.org
SUMMARY:Tax Facts: Learn at Lunch
DESCRIPTION:
URL:https://wyominglwv.org/event/tax-facts-learn-at-lunch/
END:VEVENT
BEGIN:VEVENT
DTSTART;TZID=America/Denver:20231022T120000
DTEND;TZID=America/Denver:20231022T140000
DTSTAMP:20260419T134947
CREATED:20231005T202844Z
LAST-MODIFIED:20231005T203156Z
UID:7213-1697976000-1697983200@wyominglwv.org
SUMMARY:Laramie League's Annual Luncheon
DESCRIPTION:
URL:https://wyominglwv.org/event/laramie-leagues-annual-luncheon/
END:VEVENT
BEGIN:VEVENT
DTSTART;TZID=America/Denver:20231019T130000
DTEND;TZID=America/Denver:20231019T140000
DTSTAMP:20260419T134947
CREATED:20230914T034320Z
LAST-MODIFIED:20230914T035204Z
UID:7095-1697720400-1697724000@wyominglwv.org
SUMMARY:Redistricting 2030:  Getting Ready
DESCRIPTION:Join LWVUS advocacy and state 2020 redistricting veterans to discuss actions and advocacy to ensure a more transparent process.  You must register >>>
URL:https://wyominglwv.org/event/redistricting-2030-getting-ready/
END:VEVENT
BEGIN:VEVENT
DTSTART;TZID=America/Denver:20231019T130000
DTEND;TZID=America/Denver:20231019T140000
DTSTAMP:20260419T134947
CREATED:20230830T043004Z
LAST-MODIFIED:20230830T044823Z
UID:7041-1697720400-1697724000@wyominglwv.org
SUMMARY:Laying the groundwork:  Census 2030
DESCRIPTION:The 2021 cycle taught it’s never too early to begin preparing for the next redistricting cycle.   Join LWVUS  leaders to discuss actions to ensure a fairer redistricting cycle in 2030.  Big census changes are expected\, e.g.\, blue states down 5 and red up 5. \nPlease register.  Read more>>> \n \n\n\n\n 
URL:https://wyominglwv.org/event/laying-the-groundwork-census-2030/
END:VEVENT
BEGIN:VEVENT
DTSTART;TZID=America/Denver:20231019T083000
DTEND;TZID=America/Denver:20231019T160000
DTSTAMP:20260419T134947
CREATED:20231017T031219Z
LAST-MODIFIED:20231017T040321Z
UID:7239-1697704200-1697731200@wyominglwv.org
SUMMARY:Wyoming School Board of Education monthly meeting
DESCRIPTION:The October meeting is virtual only.  The major topic will be assessment\, beginning with a presentation by Dr. Scott Marion.  Dr. has impressive credentials — mentioned in the meeting agenda.  In addition\, Dr. Marion was once the WY team leader.  Another agenda item is hiring a facilitator for the graduate profile campaign.  Read more>>>
URL:https://wyominglwv.org/event/wyoming-school-board-of-education-monthly-meeting/
END:VEVENT
END:VCALENDAR