BEGIN:VCALENDAR
VERSION:2.0
PRODID:-//League of Women Voters of Wyoming - ECPv6.15.13//NONSGML v1.0//EN
CALSCALE:GREGORIAN
METHOD:PUBLISH
X-ORIGINAL-URL:https://wyominglwv.org
X-WR-CALDESC:Events for League of Women Voters of Wyoming
REFRESH-INTERVAL;VALUE=DURATION:PT1H
X-Robots-Tag:noindex
X-PUBLISHED-TTL:PT1H
BEGIN:VTIMEZONE
TZID:America/Denver
BEGIN:DAYLIGHT
TZOFFSETFROM:-0700
TZOFFSETTO:-0600
TZNAME:MDT
DTSTART:20230312T090000
END:DAYLIGHT
BEGIN:STANDARD
TZOFFSETFROM:-0600
TZOFFSETTO:-0700
TZNAME:MST
DTSTART:20231105T080000
END:STANDARD
BEGIN:DAYLIGHT
TZOFFSETFROM:-0700
TZOFFSETTO:-0600
TZNAME:MDT
DTSTART:20240310T090000
END:DAYLIGHT
BEGIN:STANDARD
TZOFFSETFROM:-0600
TZOFFSETTO:-0700
TZNAME:MST
DTSTART:20241103T080000
END:STANDARD
BEGIN:DAYLIGHT
TZOFFSETFROM:-0700
TZOFFSETTO:-0600
TZNAME:MDT
DTSTART:20250309T090000
END:DAYLIGHT
BEGIN:STANDARD
TZOFFSETFROM:-0600
TZOFFSETTO:-0700
TZNAME:MST
DTSTART:20251102T080000
END:STANDARD
END:VTIMEZONE
BEGIN:VEVENT
DTSTART;TZID=America/Denver:20241104T000000
DTEND;TZID=America/Denver:20241104T235959
DTSTAMP:20260420T233152
CREATED:20241101T071920Z
LAST-MODIFIED:20241101T071928Z
UID:10467-1730678400-1730764799@wyominglwv.org
SUMMARY:National Election Hero Day
DESCRIPTION:
URL:https://wyominglwv.org/event/national-election-hero-day/
END:VEVENT
BEGIN:VEVENT
DTSTART;TZID=America/Denver:20241105T000000
DTEND;TZID=America/Denver:20241105T235959
DTSTAMP:20260420T233152
CREATED:20240814T062336Z
LAST-MODIFIED:20241101T063611Z
UID:9759-1730764800-1730851199@wyominglwv.org
SUMMARY:Election Day
DESCRIPTION: 
URL:https://wyominglwv.org/event/election-day/
END:VEVENT
BEGIN:VEVENT
DTSTART;TZID=America/Denver:20241109T110000
DTEND;TZID=America/Denver:20241109T120000
DTSTAMP:20260420T233152
CREATED:20241108T195159Z
LAST-MODIFIED:20241108T201021Z
UID:10543-1731150000-1731153600@wyominglwv.org
SUMMARY:LWVWA co-hosts a presentation on multi-member districts
DESCRIPTION:Wyoming had multi-member districts in the 1990s.  During that time\, more women were elected to the legislature than in another period.   \nLearn more attending tomorrow’s webinar\, but you must preregister>>> \n 
URL:https://wyominglwv.org/event/lwvwa-co-hosts-a-presentation-on-multi-member-districts/
END:VEVENT
BEGIN:VEVENT
DTSTART;TZID=America/Denver:20241110T120000
DTEND;TZID=America/Denver:20241110T140000
DTSTAMP:20260420T233152
CREATED:20241108T190324Z
LAST-MODIFIED:20241108T192921Z
UID:10532-1731240000-1731247200@wyominglwv.org
SUMMARY:Laramie League's annual luncheon + auction fundraiser
DESCRIPTION:Nothing can diminish the pride and excitement of volunteering before an election!  Wyoming Leagues have done well in 2024. \nThere are a few firsts nationwide\, such as there will be four Black women serving in the US Senate where previously there were never more than two.  13 governors will be women.  There are currently 12. \n 
URL:https://wyominglwv.org/event/laramie-leagues-annual-luncheon-auction-fundraiser/
END:VEVENT
BEGIN:VEVENT
DTSTART;TZID=America/Denver:20241111T000000
DTEND;TZID=America/Denver:20241111T235959
DTSTAMP:20260420T233152
CREATED:20240814T062416Z
LAST-MODIFIED:20240814T062417Z
UID:9761-1731283200-1731369599@wyominglwv.org
SUMMARY:Veteran's Day
DESCRIPTION:
URL:https://wyominglwv.org/event/veterans-day-2/
END:VEVENT
BEGIN:VEVENT
DTSTART;TZID=America/Denver:20241113T000000
DTEND;TZID=America/Denver:20241113T235959
DTSTAMP:20260420T233152
CREATED:20241112T212324Z
LAST-MODIFIED:20241112T212345Z
UID:10601-1731456000-1731542399@wyominglwv.org
SUMMARY:World Kindness Day
DESCRIPTION:This international holiday was introduced in 1998 by a coalition of nations kindness NGOs. It is observed in many countries.  This day is related to the idea “random acts of kindness (RAFs)” and four steps are suggested\, including doing RAFs.  Read more>>>
URL:https://wyominglwv.org/event/world-kindness-day/
END:VEVENT
BEGIN:VEVENT
DTSTART;TZID=America/Denver:20241113T180000
DTEND;TZID=America/Denver:20241113T193000
DTSTAMP:20260420T233152
CREATED:20241109T024353Z
LAST-MODIFIED:20241113T062037Z
UID:10563-1731520800-1731526200@wyominglwv.org
SUMMARY:LVWWY State Board November meeting
DESCRIPTION:
URL:https://wyominglwv.org/event/lvwwy-state-board-november-meeting/
END:VEVENT
BEGIN:VEVENT
DTSTART;TZID=America/Denver:20241114T083000
DTEND;TZID=America/Denver:20241114T170000
DTSTAMP:20260420T233152
CREATED:20241104T054205Z
LAST-MODIFIED:20241104T054358Z
UID:10501-1731573000-1731603600@wyominglwv.org
SUMMARY:Ed Committee meets: Lab School & Albany County Legislators on agenda
DESCRIPTION:
URL:https://wyominglwv.org/event/ed-committee-meets-agenda-includes-lab-school-countys-legislators-letter/
END:VEVENT
BEGIN:VEVENT
DTSTART;TZID=America/Denver:20241114T190000
DTEND;TZID=America/Denver:20241114T190000
DTSTAMP:20260420T233152
CREATED:20241115T005156Z
LAST-MODIFIED:20241115T010153Z
UID:10672-1731610800-1731610800@wyominglwv.org
SUMMARY:ChapterSpot Training for Treasurers
DESCRIPTION:This training will be hosted four times and recorded.  The training topics will be: \n\nSetting up Stripe\nViewing dues payments\nMailing checks to lockbox\nDues flow\nSubsidizing members Donations\n\n  \nDates: Nov 14 at 7 pm MT\, Nov 18 at 4:00 pm MT\, Dec 11 at 1o:00 MT\, and Dec 19 at 1:00 MT \nReminder: ChapterSpot is the new league membership platform\, providing a centralized portal for all league membership functions.
URL:https://wyominglwv.org/event/chapterspot-training-for-treasurers/
END:VEVENT
BEGIN:VEVENT
DTSTART;TZID=America/Denver:20241114T190000
DTEND;TZID=America/Denver:20241114T190000
DTSTAMP:20260420T233152
CREATED:20241115T010336Z
LAST-MODIFIED:20241115T010337Z
UID:10677-1731610800-1731610800@wyominglwv.org
SUMMARY:ChapterSpot Training for Treasurers
DESCRIPTION:
URL:https://wyominglwv.org/event/chapterspot-training-for-treasurers-2/
END:VEVENT
BEGIN:VEVENT
DTSTART;TZID=America/Denver:20241119T110000
DTEND;TZID=America/Denver:20241119T123000
DTSTAMP:20260420T233152
CREATED:20241115T004353Z
LAST-MODIFIED:20241115T005245Z
UID:10666-1732014000-1732019400@wyominglwv.org
SUMMARY:ChapterSpot Training for Membership
DESCRIPTION:This training will be hosted four times and recorded.  The training topics will be: \n\n Signing up\nLogging in\nAdding League-specific questions for members\n\n  \nDates: Nov 19 and Dec 13 at 11:00 MDT\, Dec 3 at 8:00 MDT\, and Dec 19 at 5:00 MDT \nReminder: ChapterSpot is the new league membership platform\, providing a centralized portal for all league membership functions.
URL:https://wyominglwv.org/event/chapterspot-training-for-membership/
END:VEVENT
BEGIN:VEVENT
DTSTART;TZID=America/Denver:20241120T140000
DTEND;TZID=America/Denver:20241120T153000
DTSTAMP:20260420T233152
CREATED:20241114T235846Z
LAST-MODIFIED:20241115T001717Z
UID:10651-1732111200-1732116600@wyominglwv.org
SUMMARY:LWV US-sponsored webinar: Federal Judiciary Study
DESCRIPTION:During the June 2024 national conference\, league delegates decided to proceed with a study of the federal judiciary.  This webinar is offered for league leadership as a “preview” with background on the judicial system and a timeline for the study\, focusing on SCOTUS and ethics. \n  You must pre-register>>>  Read more>>>
URL:https://wyominglwv.org/event/lwv-us-sponsored-webinar-federal-judiciary-study/
END:VEVENT
BEGIN:VEVENT
DTSTART;TZID=America/Denver:20241129T000000
DTEND;TZID=America/Denver:20241129T235959
DTSTAMP:20260420T233152
CREATED:20240814T062535Z
LAST-MODIFIED:20240814T062537Z
UID:9763-1732838400-1732924799@wyominglwv.org
SUMMARY:Native American Heritage Day
DESCRIPTION:
URL:https://wyominglwv.org/event/native-american-heritage-day/
END:VEVENT
END:VCALENDAR