BEGIN:VCALENDAR
VERSION:2.0
PRODID:-//League of Women Voters of Wyoming - ECPv6.15.13//NONSGML v1.0//EN
CALSCALE:GREGORIAN
METHOD:PUBLISH
X-ORIGINAL-URL:https://wyominglwv.org
X-WR-CALDESC:Events for League of Women Voters of Wyoming
REFRESH-INTERVAL;VALUE=DURATION:PT1H
X-Robots-Tag:noindex
X-PUBLISHED-TTL:PT1H
BEGIN:VTIMEZONE
TZID:America/Denver
BEGIN:DAYLIGHT
TZOFFSETFROM:-0700
TZOFFSETTO:-0600
TZNAME:MDT
DTSTART:20230312T090000
END:DAYLIGHT
BEGIN:STANDARD
TZOFFSETFROM:-0600
TZOFFSETTO:-0700
TZNAME:MST
DTSTART:20231105T080000
END:STANDARD
BEGIN:DAYLIGHT
TZOFFSETFROM:-0700
TZOFFSETTO:-0600
TZNAME:MDT
DTSTART:20240310T090000
END:DAYLIGHT
BEGIN:STANDARD
TZOFFSETFROM:-0600
TZOFFSETTO:-0700
TZNAME:MST
DTSTART:20241103T080000
END:STANDARD
BEGIN:DAYLIGHT
TZOFFSETFROM:-0700
TZOFFSETTO:-0600
TZNAME:MDT
DTSTART:20250309T090000
END:DAYLIGHT
BEGIN:STANDARD
TZOFFSETFROM:-0600
TZOFFSETTO:-0700
TZNAME:MST
DTSTART:20251102T080000
END:STANDARD
END:VTIMEZONE
BEGIN:VEVENT
DTSTART;TZID=America/Denver:20241202T083000
DTEND;TZID=America/Denver:20241202T110000
DTSTAMP:20260420T233221
CREATED:20241119T213756Z
LAST-MODIFIED:20241119T214807Z
UID:10713-1733128200-1733137200@wyominglwv.org
SUMMARY:Volunteers will decorate the Women's History House
DESCRIPTION:As per Mary Mountain\, Executive Director of the WY Women’s History House:   \n \n\n\n\nLast year\, it took just a couple of hours in our small spaces so we really don’t need a mob of volunteers. Half a dozen volunteers or so work well\, so if those of you who’ve helped before–in the courtyard and in the HH–can make it\, great! I’ll have coffee\, juice and some morning sweets of some kind.\n\n\n\nContact Mary director@wyomingwomenshistoryhouse.info if you wish to help.  Mary also invites volunteers to help decorate at the Ivinson Mansion on December 9.\n 
URL:https://wyominglwv.org/event/volunteers-will-decorate-the-womens-history-house/
END:VEVENT
BEGIN:VEVENT
DTSTART;TZID=America/Denver:20241202T160000
DTEND;TZID=America/Denver:20241202T170000
DTSTAMP:20260420T233221
CREATED:20241123T041629Z
LAST-MODIFIED:20241123T045250Z
UID:10772-1733155200-1733158800@wyominglwv.org
SUMMARY:ChapterSpot training: LWV roster management
DESCRIPTION:There are multiple December opportunities to receive this training:   \n12/2 and12/17 at 4:00 \n12/10 and 12/18 at 1:00 \nA recording of the training will also be available. Please pre-register>>>
URL:https://wyominglwv.org/event/chapterspot-training-lwv-roster-management/
END:VEVENT
BEGIN:VEVENT
DTSTART;TZID=America/Denver:20241202T160000
DTEND;TZID=America/Denver:20241202T170000
DTSTAMP:20260420T233221
CREATED:20241202T035816Z
LAST-MODIFIED:20241202T040505Z
UID:10866-1733155200-1733158800@wyominglwv.org
SUMMARY:LWVWY 2025 Legislative Group:  1st meeting
DESCRIPTION:The group was formed to work with the 2024 legislature.  It has assumed a number of responsibilities\, including: \n\nliaise with the league lobbyist\, Marguerite Herman\nadopt software to track legislation that we may control locally\ndraft a small number of priorities to guide our 2025 advocacy\ndevelop a nimble legislative alert protocol for membership\n\n \nThe group is open to any member wishing to join this team.  It is also open to sporatic participation or suggestions.  Link here to see the agenda. \nThe zoom link is here.>>> \n 
URL:https://wyominglwv.org/event/lwvwy-2025-legislative-group-1st-meeting/
END:VEVENT
BEGIN:VEVENT
DTSTART;TZID=America/Denver:20241202T180000
DTEND;TZID=America/Denver:20241202T193000
DTSTAMP:20260420T233221
CREATED:20241204T025358Z
LAST-MODIFIED:20241204T025607Z
UID:10899-1733162400-1733167800@wyominglwv.org
SUMMARY:LWVWY December Board Meeting
DESCRIPTION:The zoom link for the meeting is here>>>
URL:https://wyominglwv.org/event/lwvwy-december-board-meeting/
END:VEVENT
BEGIN:VEVENT
DTSTART;TZID=America/Denver:20241203T130000
DTEND;TZID=America/Denver:20241203T140000
DTSTAMP:20260420T233221
CREATED:20241123T045452Z
LAST-MODIFIED:20241123T050104Z
UID:10778-1733230800-1733234400@wyominglwv.org
SUMMARY:ChapterSpot Training:  LWV Treasurers
DESCRIPTION:There are multiple December opportunities to receive this training:  \n12/3 and12/19 at 11:00 am \n12/11 at 8:00 am \nA recording of the training will also be available. Please pre-register>>>
URL:https://wyominglwv.org/event/chapterspot-lwv-training-treasurers/
END:VEVENT
BEGIN:VEVENT
DTSTART;TZID=America/Denver:20241203T180000
DTEND;TZID=America/Denver:20241203T193000
DTSTAMP:20260420T233221
CREATED:20241120T050810Z
LAST-MODIFIED:20241204T224949Z
UID:10735-1733248800-1733254200@wyominglwv.org
SUMMARY:State League Board meeting
DESCRIPTION:Do you have suggestions for the meeting agenda?  Contact Nancy.  
URL:https://wyominglwv.org/event/state-league-board-meeting/
END:VEVENT
BEGIN:VEVENT
DTSTART;TZID=America/Denver:20241204T080000
DTEND;TZID=America/Denver:20241204T090000
DTSTAMP:20260420T233221
CREATED:20241123T050321Z
LAST-MODIFIED:20241123T050552Z
UID:10783-1733299200-1733302800@wyominglwv.org
SUMMARY:ChapterSpot training:  LWV membership managers
DESCRIPTION:
URL:https://wyominglwv.org/event/chapterspot-training-lwv-membership-managers/
END:VEVENT
BEGIN:VEVENT
DTSTART;TZID=America/Denver:20241205T110000
DTEND;TZID=America/Denver:20241205T120000
DTSTAMP:20260420T233221
CREATED:20241123T050805Z
LAST-MODIFIED:20241123T051017Z
UID:10787-1733396400-1733400000@wyominglwv.org
SUMMARY:ChapterSpot training:  LWV Presidents
DESCRIPTION:There are multiple December opportunities to receive this training:  \n12/5 at 11:00 am \n12/12 at 5:00 pm \n12/16 at 2:00 pm \nA recording of the training will also be available. Please pre-register>>>
URL:https://wyominglwv.org/event/chapterspot-training-lwv-presidents/
END:VEVENT
BEGIN:VEVENT
DTSTART;TZID=America/Denver:20241205T170000
DTEND;TZID=America/Denver:20241205T180000
DTSTAMP:20260420T233221
CREATED:20241123T051215Z
LAST-MODIFIED:20241123T051357Z
UID:10791-1733418000-1733421600@wyominglwv.org
SUMMARY:ChapterSpot training:  LWV Webmasters
DESCRIPTION:
URL:https://wyominglwv.org/event/chapterspot-training-lwv-webmasters/
END:VEVENT
BEGIN:VEVENT
DTSTART;TZID=America/Denver:20241206T000000
DTEND;TZID=America/Denver:20241206T235959
DTSTAMP:20260420T233221
CREATED:20240814T064505Z
LAST-MODIFIED:20241123T065306Z
UID:9782-1733443200-1733529599@wyominglwv.org
SUMMARY:Ratification 13th Amendment\, Abolish Slavery
DESCRIPTION:Ratified on December 6\, 1865\, this Amendment was the first of three called the “Civil War Amendments.”  A tug-of-war between Congress and the Supreme Court ensued where SCOTUS claimed that Congress exceeded its powers with the enforcement section and that stating that private discrimination was not slavery.  The text of the Amendment is below.  \nSection 1 \nNeither slavery nor involuntary servitude\, except as a punishment for crime whereof the party shall have been duly convicted\, shall exist within the United States\, or any place subject to their jurisdiction. \n  \nSection 2 \nCongress shall have power to enforce this article by appropriate legislation.
URL:https://wyominglwv.org/event/ratification-of-the-13th-amendment-abolish-slavery/
END:VEVENT
BEGIN:VEVENT
DTSTART;TZID=America/Denver:20241209T160000
DTEND;TZID=America/Denver:20241209T173000
DTSTAMP:20260420T233221
CREATED:20241202T041143Z
LAST-MODIFIED:20241202T042249Z
UID:10871-1733760000-1733765400@wyominglwv.org
SUMMARY:UW Sandeen Lecture in Humanities: Andean Climate
DESCRIPTION:Dr. Allison Caine from the Anthropology Department has been chosen to deliver the Sandeen Lecture.  To attend in person\, be at the Coe Library\, Room 506.  The presentation is also being shown Livestream.  \nThe link will be announced TBA.   Read more about the content of the presentation>>> \n 
URL:https://wyominglwv.org/event/uw-sandeen-lecture-in-humanities-andean-climate/
END:VEVENT
BEGIN:VEVENT
DTSTART;TZID=America/Denver:20241210T000000
DTEND;TZID=America/Denver:20241210T235959
DTSTAMP:20260420T233221
CREATED:20241121T044649Z
LAST-MODIFIED:20241121T050326Z
UID:10755-1733788800-1733875199@wyominglwv.org
SUMMARY:Anniversary:  Wyoming grants women suffrage
DESCRIPTION:Why would the men of the WY territory decide to grant suffrage in their first constitution? Some were lonely. In 1869\, the territory had over 6\,000 adult males and only 1\,000 females. Area men hoped women would be more likely to settle if granted the right to vote. \nThe wife of William Bright\, a territorial legislator\, argued denying women the vote was unjust. The territorial secretary\, Edward M. Lee\, wanted his mother to vote. If African-American males already had suffrage\, then so should his mother.  Read more>>>
URL:https://wyominglwv.org/event/anniversary-wyoming-grants-women-suffrage/
END:VEVENT
BEGIN:VEVENT
DTSTART;TZID=America/Denver:20241210T183000
DTEND;TZID=America/Denver:20241210T200000
DTSTAMP:20260420T233221
CREATED:20241112T193144Z
LAST-MODIFIED:20241112T193145Z
UID:10595-1733855400-1733860800@wyominglwv.org
SUMMARY:Laramie LWV Board Meeting
DESCRIPTION:The Laramie LWV is meeting at the Wyoming Women’s History House\, virtual access through teleconference will be available
URL:https://wyominglwv.org/event/laramie-lwv-board-meeting-2/
END:VEVENT
BEGIN:VEVENT
DTSTART;TZID=America/Denver:20241214T100000
DTEND;TZID=America/Denver:20241214T150000
DTSTAMP:20260420T233221
CREATED:20241119T215255Z
LAST-MODIFIED:20241119T215954Z
UID:10718-1734170400-1734188400@wyominglwv.org
SUMMARY:WY Women's House:  Holiday Open House
DESCRIPTION:Again\, this event is thanks to Mary Mountain\, Executive Director of the History House.  As Mary describes it: \nJane Ivinson\n\n\n\nWe’ll have treats and community and student musicians and choirs and of course\, the decor around the HH. Our first ad for the HOH ran in the Unexpected Company’s program and a 2nd one is part of a large story-ad coming out Thanksgiving week. I’m hoping we can have a nice group of visitors coming and going to see our decor and history as they also check out the bigger museums that same day. I’d love to have some of us in historic dress throughout the day (I’ll dress as Mrs. I or someone)\, so if you’d be willing to come for a bit as one of our women or men of history anytime from 10-3:00 that day\, that’d be great!\n 
URL:https://wyominglwv.org/event/wy-womens-house-holiday-open-house/
END:VEVENT
BEGIN:VEVENT
DTSTART;TZID=America/Denver:20241215T000000
DTEND;TZID=America/Denver:20241215T235959
DTSTAMP:20260420T233221
CREATED:20240814T062641Z
LAST-MODIFIED:20240814T062642Z
UID:9765-1734220800-1734307199@wyominglwv.org
SUMMARY:Bill of Rights Day
DESCRIPTION:
URL:https://wyominglwv.org/event/bill-of-rights-day/
END:VEVENT
BEGIN:VEVENT
DTSTART;TZID=America/Denver:20241226T000000
DTEND;TZID=America/Denver:20241226T235959
DTSTAMP:20260420T233221
CREATED:20241123T055105Z
LAST-MODIFIED:20241123T055106Z
UID:10805-1735171200-1735257599@wyominglwv.org
SUMMARY:1st Day of Hanukkah & Kwanzaa
DESCRIPTION:
URL:https://wyominglwv.org/event/1st-day-of-hanukkah-kwanzaa/
END:VEVENT
END:VCALENDAR