BEGIN:VCALENDAR
VERSION:2.0
PRODID:-//League of Women Voters of Wyoming - ECPv6.15.13//NONSGML v1.0//EN
CALSCALE:GREGORIAN
METHOD:PUBLISH
X-ORIGINAL-URL:https://wyominglwv.org
X-WR-CALDESC:Events for League of Women Voters of Wyoming
REFRESH-INTERVAL;VALUE=DURATION:PT1H
X-Robots-Tag:noindex
X-PUBLISHED-TTL:PT1H
BEGIN:VTIMEZONE
TZID:America/Denver
BEGIN:DAYLIGHT
TZOFFSETFROM:-0700
TZOFFSETTO:-0600
TZNAME:MDT
DTSTART:20240310T090000
END:DAYLIGHT
BEGIN:STANDARD
TZOFFSETFROM:-0600
TZOFFSETTO:-0700
TZNAME:MST
DTSTART:20241103T080000
END:STANDARD
BEGIN:DAYLIGHT
TZOFFSETFROM:-0700
TZOFFSETTO:-0600
TZNAME:MDT
DTSTART:20250309T090000
END:DAYLIGHT
BEGIN:STANDARD
TZOFFSETFROM:-0600
TZOFFSETTO:-0700
TZNAME:MST
DTSTART:20251102T080000
END:STANDARD
BEGIN:DAYLIGHT
TZOFFSETFROM:-0700
TZOFFSETTO:-0600
TZNAME:MDT
DTSTART:20260308T090000
END:DAYLIGHT
BEGIN:STANDARD
TZOFFSETFROM:-0600
TZOFFSETTO:-0700
TZNAME:MST
DTSTART:20261101T080000
END:STANDARD
END:VTIMEZONE
BEGIN:VEVENT
DTSTART;TZID=America/Denver:20250201T000000
DTEND;TZID=America/Denver:20250201T235959
DTSTAMP:20260422T085219
CREATED:20241123T055807Z
LAST-MODIFIED:20241123T055808Z
UID:10811-1738368000-1738454399@wyominglwv.org
SUMMARY:National Freedom Day
DESCRIPTION:
URL:https://wyominglwv.org/event/national-freedom-day/
END:VEVENT
BEGIN:VEVENT
DTSTART;TZID=America/Denver:20250203T000000
DTEND;TZID=America/Denver:20250203T235959
DTSTAMP:20260422T085219
CREATED:20241123T064331Z
LAST-MODIFIED:20241123T065519Z
UID:10831-1738540800-1738627199@wyominglwv.org
SUMMARY:Ratification 15th Amendment\, Suffrage Black Men
DESCRIPTION:
URL:https://wyominglwv.org/event/155th-anniversary-ratification-15th-amendment/
END:VEVENT
BEGIN:VEVENT
DTSTART;TZID=America/Denver:20250207T000000
DTEND;TZID=America/Denver:20250207T235959
DTSTAMP:20260422T085219
CREATED:20241125T223139Z
LAST-MODIFIED:20241125T224242Z
UID:10849-1738886400-1738972799@wyominglwv.org
SUMMARY:Ratification 11th Amendment\, Only state's citizens may sue it
DESCRIPTION:The Supreme Court was established in 1789 with the Judiciary Act.  A few years later a case arose where a man from GA tried to sue the state of GA.  The judges disagreed with the protection that the state had.  This led to the 11th amendment.  Read more>>>
URL:https://wyominglwv.org/event/ratification-11th-amendment-only-states-citizens-may-sue-it/
END:VEVENT
BEGIN:VEVENT
DTSTART;TZID=America/Denver:20250208T100000
DTEND;TZID=America/Denver:20250208T140000
DTSTAMP:20260422T085219
CREATED:20250130T043425Z
LAST-MODIFIED:20250130T044307Z
UID:11257-1739008800-1739023200@wyominglwv.org
SUMMARY:Chocolate Fiesta -- Fundraiser for Laramie League
DESCRIPTION:
URL:https://wyominglwv.org/event/chocolate-fiesta-fundraiser-for-laramie-league/
END:VEVENT
BEGIN:VEVENT
DTSTART;TZID=America/Denver:20250214T000000
DTEND;TZID=America/Denver:20250214T235959
DTSTAMP:20260422T085219
CREATED:20240814T063210Z
LAST-MODIFIED:20241123T061534Z
UID:9773-1739491200-1739577599@wyominglwv.org
SUMMARY:Valentine's Day & LWV is 105 years old
DESCRIPTION:
URL:https://wyominglwv.org/event/valentines-day-lwv-turns-105-years-old/
END:VEVENT
BEGIN:VEVENT
DTSTART;TZID=America/Denver:20250216T143000
DTEND;TZID=America/Denver:20250216T163000
DTSTAMP:20260422T085219
CREATED:20250210T205030Z
LAST-MODIFIED:20250213T194334Z
UID:11342-1739716200-1739723400@wyominglwv.org
SUMMARY:LWV Laramie Program Planning Meeting
DESCRIPTION:The Laramie League will hold their planning meeting from 3 – 5 pm at the home of Sid Walter. The Laramie Program plan is updated each year prior to our March annual meeting and all Laramie members are invited to attend.
URL:https://wyominglwv.org/event/lwv-laramie-program-planning-meeting-2/
END:VEVENT
BEGIN:VEVENT
DTSTART;TZID=America/Denver:20250217T000000
DTEND;TZID=America/Denver:20250217T235959
DTSTAMP:20260422T085219
CREATED:20240814T063314Z
LAST-MODIFIED:20240814T063315Z
UID:9775-1739750400-1739836799@wyominglwv.org
SUMMARY:Presidents' Day
DESCRIPTION:
URL:https://wyominglwv.org/event/presidents-day/
END:VEVENT
BEGIN:VEVENT
DTSTART;TZID=America/Denver:20250217T190000
DTEND;TZID=America/Denver:20250217T203000
DTSTAMP:20260422T085219
CREATED:20250217T101815Z
LAST-MODIFIED:20250217T103116Z
UID:11402-1739818800-1739824200@wyominglwv.org
SUMMARY:Progressive Alliance:  Speakers Nate Martin & Anthony Serrano
DESCRIPTION:This group meets on the 3rd Monday of each month at the UUFL building. Mr. Serrano (WY ACLU) will address immigration\, and Mr. Martin (Better WY) will address his organization’s improved legislative reporting. Read more >>> \n 
URL:https://wyominglwv.org/event/progressive-alliance-speakers-nate-martin-anthony-serrano/
END:VEVENT
BEGIN:VEVENT
DTSTART;TZID=America/Denver:20250221T100000
DTEND;TZID=America/Denver:20250221T110000
DTSTAMP:20260422T085219
CREATED:20250221T001507Z
LAST-MODIFIED:20250221T001514Z
UID:11429-1740132000-1740135600@wyominglwv.org
SUMMARY:LWVUS:  Selma Teach-in
DESCRIPTION:
URL:https://wyominglwv.org/event/lwvus-selma-teach-in/
END:VEVENT
BEGIN:VEVENT
DTSTART;TZID=America/Denver:20250226T160000
DTEND;TZID=America/Denver:20250226T170000
DTSTAMP:20260422T085219
CREATED:20250218T213954Z
LAST-MODIFIED:20250220T192600Z
UID:11414-1740585600-1740589200@wyominglwv.org
SUMMARY:UW Townhall with President Siedel
DESCRIPTION:President Siedel is hosting a faculty Q&A. Questions may be submitted before. The face-to-face meeting will be in the Union Family Room (2nd floor). There is also a WYOcast and a YouTube video:  \nWyoCast Link \nhttps://uwyo.video.yuja.com/LiveStream/I/811/417837951  \n  \nYouTube Link \nhttps://youtube.com/live/qavt7FDIxuk
URL:https://wyominglwv.org/event/uw-townhall-with-prsident-siedel/
END:VEVENT
END:VCALENDAR